BEGIN:VCALENDAR
VERSION:2.0
PRODID:-//Keluarga Katolik Indonesia - San Diego - ECPv6.15.20//NONSGML v1.0//EN
CALSCALE:GREGORIAN
METHOD:PUBLISH
X-WR-CALNAME:Keluarga Katolik Indonesia - San Diego
X-ORIGINAL-URL:https://www.kki-sd.org
X-WR-CALDESC:Events for Keluarga Katolik Indonesia - San Diego
REFRESH-INTERVAL;VALUE=DURATION:PT1H
X-Robots-Tag:noindex
X-PUBLISHED-TTL:PT1H
BEGIN:VTIMEZONE
TZID:America/Los_Angeles
BEGIN:DAYLIGHT
TZOFFSETFROM:-0800
TZOFFSETTO:-0700
TZNAME:PDT
DTSTART:20170312T100000
END:DAYLIGHT
BEGIN:STANDARD
TZOFFSETFROM:-0700
TZOFFSETTO:-0800
TZNAME:PST
DTSTART:20171105T090000
END:STANDARD
BEGIN:DAYLIGHT
TZOFFSETFROM:-0800
TZOFFSETTO:-0700
TZNAME:PDT
DTSTART:20180311T100000
END:DAYLIGHT
BEGIN:STANDARD
TZOFFSETFROM:-0700
TZOFFSETTO:-0800
TZNAME:PST
DTSTART:20181104T090000
END:STANDARD
BEGIN:DAYLIGHT
TZOFFSETFROM:-0800
TZOFFSETTO:-0700
TZNAME:PDT
DTSTART:20190310T100000
END:DAYLIGHT
BEGIN:STANDARD
TZOFFSETFROM:-0700
TZOFFSETTO:-0800
TZNAME:PST
DTSTART:20191103T090000
END:STANDARD
END:VTIMEZONE
BEGIN:VEVENT
DTSTART;TZID=America/Los_Angeles:20180818T140000
DTEND;TZID=America/Los_Angeles:20180818T170000
DTSTAMP:20260419T232326
CREATED:20190218T214709Z
LAST-MODIFIED:20190218T214709Z
UID:10000706-1534600800-1534611600@www.kki-sd.org
SUMMARY:Piknik Kemerdekaan
DESCRIPTION:Related
URL:https://www.kki-sd.org/event/piknik-kemerdekaan/
LOCATION:Santee Lakes\, Fanita Parkway\, Santee\, CA
GEO:32.8561998;-117.0056838
X-APPLE-STRUCTURED-LOCATION;VALUE=URI;X-ADDRESS=Santee Lakes Fanita Parkway Santee CA;X-APPLE-RADIUS=500;X-TITLE=Fanita Parkway:geo:-117.0056838,32.8561998
END:VEVENT
END:VCALENDAR