BEGIN:VCALENDAR
VERSION:2.0
PRODID:-//Keluarga Katolik Indonesia - San Diego - ECPv6.15.20//NONSGML v1.0//EN
CALSCALE:GREGORIAN
METHOD:PUBLISH
X-WR-CALNAME:Keluarga Katolik Indonesia - San Diego
X-ORIGINAL-URL:https://www.kki-sd.org
X-WR-CALDESC:Events for Keluarga Katolik Indonesia - San Diego
REFRESH-INTERVAL;VALUE=DURATION:PT1H
X-Robots-Tag:noindex
X-PUBLISHED-TTL:PT1H
BEGIN:VTIMEZONE
TZID:America/Los_Angeles
BEGIN:DAYLIGHT
TZOFFSETFROM:-0800
TZOFFSETTO:-0700
TZNAME:PDT
DTSTART:20120311T100000
END:DAYLIGHT
BEGIN:STANDARD
TZOFFSETFROM:-0700
TZOFFSETTO:-0800
TZNAME:PST
DTSTART:20121104T090000
END:STANDARD
BEGIN:DAYLIGHT
TZOFFSETFROM:-0800
TZOFFSETTO:-0700
TZNAME:PDT
DTSTART:20130310T100000
END:DAYLIGHT
BEGIN:STANDARD
TZOFFSETFROM:-0700
TZOFFSETTO:-0800
TZNAME:PST
DTSTART:20131103T090000
END:STANDARD
BEGIN:DAYLIGHT
TZOFFSETFROM:-0800
TZOFFSETTO:-0700
TZNAME:PDT
DTSTART:20140309T100000
END:DAYLIGHT
BEGIN:STANDARD
TZOFFSETFROM:-0700
TZOFFSETTO:-0800
TZNAME:PST
DTSTART:20141102T090000
END:STANDARD
BEGIN:DAYLIGHT
TZOFFSETFROM:-0800
TZOFFSETTO:-0700
TZNAME:PDT
DTSTART:20150308T100000
END:DAYLIGHT
BEGIN:STANDARD
TZOFFSETFROM:-0700
TZOFFSETTO:-0800
TZNAME:PST
DTSTART:20151101T090000
END:STANDARD
BEGIN:DAYLIGHT
TZOFFSETFROM:-0800
TZOFFSETTO:-0700
TZNAME:PDT
DTSTART:20160313T100000
END:DAYLIGHT
BEGIN:STANDARD
TZOFFSETFROM:-0700
TZOFFSETTO:-0800
TZNAME:PST
DTSTART:20161106T090000
END:STANDARD
BEGIN:DAYLIGHT
TZOFFSETFROM:-0800
TZOFFSETTO:-0700
TZNAME:PDT
DTSTART:20170312T100000
END:DAYLIGHT
BEGIN:STANDARD
TZOFFSETFROM:-0700
TZOFFSETTO:-0800
TZNAME:PST
DTSTART:20171105T090000
END:STANDARD
END:VTIMEZONE
BEGIN:VEVENT
DTSTART;TZID=America/Los_Angeles:20160919T190000
DTEND;TZID=America/Los_Angeles:20160919T210000
DTSTAMP:20260420T100019
CREATED:20170311T222835Z
LAST-MODIFIED:20170311T222835Z
UID:10000537-1474311600-1474318800@www.kki-sd.org
SUMMARY:Doa Rosario - 1 tahun wafatnya TJ
DESCRIPTION:Related
URL:https://www.kki-sd.org/event/doa-rosario-1-tahun-wafatnya-tj/
LOCATION:Rumah Ci Porry
END:VEVENT
BEGIN:VEVENT
DTSTART;TZID=America/Los_Angeles:20160402T170000
DTEND;TZID=America/Los_Angeles:20160402T200000
DTSTAMP:20260420T100019
CREATED:20170311T222812Z
LAST-MODIFIED:20170311T222812Z
UID:10000576-1459616400-1459627200@www.kki-sd.org
SUMMARY:Doa Rosario - 100 hari Gobert
DESCRIPTION:Related
URL:https://www.kki-sd.org/event/doa-rosario-100-hari-gobert-2/
LOCATION:Rumah Ci Porry
END:VEVENT
BEGIN:VEVENT
DTSTART;TZID=America/Los_Angeles:20130929T160000
DTEND;TZID=America/Los_Angeles:20130929T190000
DTSTAMP:20260420T100019
CREATED:20170311T222633Z
LAST-MODIFIED:20170311T222633Z
UID:10000441-1380470400-1380481200@www.kki-sd.org
SUMMARY:Doa Rosario
DESCRIPTION:Doa Rosario KKISD bersama dengan intensi khusus bagi T.J. Hady\, dimulai pukul 4 sore.  For more info\, send email to kkisd.info@yahoo.com. \n\n\n	Related
URL:https://www.kki-sd.org/event/doa-rosario-31/
LOCATION:Rumah Ci Porry
END:VEVENT
END:VCALENDAR