BEGIN:VCALENDAR
VERSION:2.0
PRODID:-//Keluarga Katolik Indonesia - San Diego - ECPv6.15.20//NONSGML v1.0//EN
CALSCALE:GREGORIAN
METHOD:PUBLISH
X-WR-CALNAME:Keluarga Katolik Indonesia - San Diego
X-ORIGINAL-URL:https://www.kki-sd.org
X-WR-CALDESC:Events for Keluarga Katolik Indonesia - San Diego
REFRESH-INTERVAL;VALUE=DURATION:PT1H
X-Robots-Tag:noindex
X-PUBLISHED-TTL:PT1H
BEGIN:VTIMEZONE
TZID:America/Los_Angeles
BEGIN:DAYLIGHT
TZOFFSETFROM:-0800
TZOFFSETTO:-0700
TZNAME:PDT
DTSTART:20130310T100000
END:DAYLIGHT
BEGIN:STANDARD
TZOFFSETFROM:-0700
TZOFFSETTO:-0800
TZNAME:PST
DTSTART:20131103T090000
END:STANDARD
BEGIN:DAYLIGHT
TZOFFSETFROM:-0800
TZOFFSETTO:-0700
TZNAME:PDT
DTSTART:20140309T100000
END:DAYLIGHT
BEGIN:STANDARD
TZOFFSETFROM:-0700
TZOFFSETTO:-0800
TZNAME:PST
DTSTART:20141102T090000
END:STANDARD
BEGIN:DAYLIGHT
TZOFFSETFROM:-0800
TZOFFSETTO:-0700
TZNAME:PDT
DTSTART:20150308T100000
END:DAYLIGHT
BEGIN:STANDARD
TZOFFSETFROM:-0700
TZOFFSETTO:-0800
TZNAME:PST
DTSTART:20151101T090000
END:STANDARD
END:VTIMEZONE
BEGIN:VEVENT
DTSTART;TZID=America/Los_Angeles:20140712T070000
DTEND;TZID=America/Los_Angeles:20140712T090000
DTSTAMP:20260421T040818
CREATED:20170311T222711Z
LAST-MODIFIED:20170311T222711Z
UID:10000496-1405148400-1405155600@www.kki-sd.org
SUMMARY:Jalan Kaki Bersama
DESCRIPTION:Marilah kita berjalan kaki bersama mengelilingi lake Miramar di daerah Scripps Ranch\, sejauh kira kira 5 miles\, area mendatar\, jalanan aspal\, bisa untuk naik sepeda juga\, baik untuk dewasa dan anak anak. Bagi yang membawa anak anak bisa membawa sisa roti untuk memberi makan bebek dan angsa. Peserta dapat memilih jarak tempuh sesuai kekuatan masing masing\, ada patok tiap 1/4 miles. Contohnya bagi yang ingin berjalan sejauh 1 mile\, dapat berjalan sampai patok 1/2 mile lalu kembali.Pukul 7:00am – 9:00 am \n\n\n	Related
URL:https://www.kki-sd.org/event/jalan-kaki-bersama-2/
LOCATION:Miramar Lake
END:VEVENT
END:VCALENDAR