BEGIN:VCALENDAR
VERSION:2.0
PRODID:-//Keluarga Katolik Indonesia - San Diego - ECPv6.15.20//NONSGML v1.0//EN
CALSCALE:GREGORIAN
METHOD:PUBLISH
X-ORIGINAL-URL:https://www.kki-sd.org
X-WR-CALDESC:Events for Keluarga Katolik Indonesia - San Diego
REFRESH-INTERVAL;VALUE=DURATION:PT1H
X-Robots-Tag:noindex
X-PUBLISHED-TTL:PT1H
BEGIN:VTIMEZONE
TZID:America/Los_Angeles
BEGIN:DAYLIGHT
TZOFFSETFROM:-0800
TZOFFSETTO:-0700
TZNAME:PDT
DTSTART:20120311T100000
END:DAYLIGHT
BEGIN:STANDARD
TZOFFSETFROM:-0700
TZOFFSETTO:-0800
TZNAME:PST
DTSTART:20121104T090000
END:STANDARD
BEGIN:DAYLIGHT
TZOFFSETFROM:-0800
TZOFFSETTO:-0700
TZNAME:PDT
DTSTART:20130310T100000
END:DAYLIGHT
BEGIN:STANDARD
TZOFFSETFROM:-0700
TZOFFSETTO:-0800
TZNAME:PST
DTSTART:20131103T090000
END:STANDARD
BEGIN:DAYLIGHT
TZOFFSETFROM:-0800
TZOFFSETTO:-0700
TZNAME:PDT
DTSTART:20140309T100000
END:DAYLIGHT
BEGIN:STANDARD
TZOFFSETFROM:-0700
TZOFFSETTO:-0800
TZNAME:PST
DTSTART:20141102T090000
END:STANDARD
BEGIN:DAYLIGHT
TZOFFSETFROM:-0800
TZOFFSETTO:-0700
TZNAME:PDT
DTSTART:20150308T100000
END:DAYLIGHT
BEGIN:STANDARD
TZOFFSETFROM:-0700
TZOFFSETTO:-0800
TZNAME:PST
DTSTART:20151101T090000
END:STANDARD
END:VTIMEZONE
BEGIN:VEVENT
DTSTART;TZID=America/Los_Angeles:20140301T130000
DTEND;TZID=America/Los_Angeles:20140301T160000
DTSTAMP:20260420T213840
CREATED:20170311T222655Z
LAST-MODIFIED:20170311T222655Z
UID:10000462-1393678800-1393689600@www.kki-sd.org
SUMMARY:Seminar Ecumenism
DESCRIPTION:Dibawakan oleh: Msgr. Dennis L. Mikulanis\, STD. \n\n\n	Related
URL:https://www.kki-sd.org/event/seminar-ecumenism-2/
LOCATION:Guardian Angels Church – Cunnane Parish Center\, 9310 Dalehurst Rd\, Santee\, CA\, 92071
GEO:32.8596724;-117.0025746
X-APPLE-STRUCTURED-LOCATION;VALUE=URI;X-ADDRESS=Guardian Angels Church – Cunnane Parish Center 9310 Dalehurst Rd Santee CA 92071;X-APPLE-RADIUS=500;X-TITLE=9310 Dalehurst Rd:geo:-117.0025746,32.8596724
END:VEVENT
BEGIN:VEVENT
DTSTART;TZID=America/Los_Angeles:20140104T120000
DTEND;TZID=America/Los_Angeles:20140104T160000
DTSTAMP:20260420T213840
CREATED:20170311T222648Z
LAST-MODIFIED:20170311T222648Z
UID:10000454-1388836800-1388851200@www.kki-sd.org
SUMMARY:Perayaan Natal dan Tahun Baru
DESCRIPTION:Perayaan Natal dan Tahun Baru bersama rekan rekan di KKISD. \n\n\n	Related
URL:https://www.kki-sd.org/event/perayaan-natal-dan-tahun-baru-2/
LOCATION:Guardian Angels Church – Cunnane Parish Center\, 9310 Dalehurst Rd\, Santee\, CA\, 92071
GEO:32.8596724;-117.0025746
X-APPLE-STRUCTURED-LOCATION;VALUE=URI;X-ADDRESS=Guardian Angels Church – Cunnane Parish Center 9310 Dalehurst Rd Santee CA 92071;X-APPLE-RADIUS=500;X-TITLE=9310 Dalehurst Rd:geo:-117.0025746,32.8596724
END:VEVENT
BEGIN:VEVENT
DTSTART;TZID=America/Los_Angeles:20131130T120000
DTEND;TZID=America/Los_Angeles:20131130T160000
DTSTAMP:20260420T213840
CREATED:20170311T222645Z
LAST-MODIFIED:20170311T222645Z
UID:10000450-1385812800-1385827200@www.kki-sd.org
SUMMARY:Thanksgiving & KKI-SD Election
DESCRIPTION:Perayaan Thanksgiving Day dan pemilihan ketua KKISD periode tahun 2014 \n\n\n	Related
URL:https://www.kki-sd.org/event/thanksgiving-kki-sd-election-2/
LOCATION:Guardian Angels Church – Cunnane Parish Center\, 9310 Dalehurst Rd\, Santee\, CA\, 92071
GEO:32.8596724;-117.0025746
X-APPLE-STRUCTURED-LOCATION;VALUE=URI;X-ADDRESS=Guardian Angels Church – Cunnane Parish Center 9310 Dalehurst Rd Santee CA 92071;X-APPLE-RADIUS=500;X-TITLE=9310 Dalehurst Rd:geo:-117.0025746,32.8596724
END:VEVENT
END:VCALENDAR