BEGIN:VCALENDAR
VERSION:2.0
PRODID:-//Keluarga Katolik Indonesia - San Diego - ECPv6.15.20//NONSGML v1.0//EN
CALSCALE:GREGORIAN
METHOD:PUBLISH
X-ORIGINAL-URL:https://www.kki-sd.org
X-WR-CALDESC:Events for Keluarga Katolik Indonesia - San Diego
REFRESH-INTERVAL;VALUE=DURATION:PT1H
X-Robots-Tag:noindex
X-PUBLISHED-TTL:PT1H
BEGIN:VTIMEZONE
TZID:America/Los_Angeles
BEGIN:DAYLIGHT
TZOFFSETFROM:-0800
TZOFFSETTO:-0700
TZNAME:PDT
DTSTART:20150308T100000
END:DAYLIGHT
BEGIN:STANDARD
TZOFFSETFROM:-0700
TZOFFSETTO:-0800
TZNAME:PST
DTSTART:20151101T090000
END:STANDARD
BEGIN:DAYLIGHT
TZOFFSETFROM:-0800
TZOFFSETTO:-0700
TZNAME:PDT
DTSTART:20160313T100000
END:DAYLIGHT
BEGIN:STANDARD
TZOFFSETFROM:-0700
TZOFFSETTO:-0800
TZNAME:PST
DTSTART:20161106T090000
END:STANDARD
BEGIN:DAYLIGHT
TZOFFSETFROM:-0800
TZOFFSETTO:-0700
TZNAME:PDT
DTSTART:20170312T100000
END:DAYLIGHT
BEGIN:STANDARD
TZOFFSETFROM:-0700
TZOFFSETTO:-0800
TZNAME:PST
DTSTART:20171105T090000
END:STANDARD
BEGIN:DAYLIGHT
TZOFFSETFROM:-0800
TZOFFSETTO:-0700
TZNAME:PDT
DTSTART:20180311T100000
END:DAYLIGHT
BEGIN:STANDARD
TZOFFSETFROM:-0700
TZOFFSETTO:-0800
TZNAME:PST
DTSTART:20181104T090000
END:STANDARD
BEGIN:DAYLIGHT
TZOFFSETFROM:-0800
TZOFFSETTO:-0700
TZNAME:PDT
DTSTART:20190310T100000
END:DAYLIGHT
BEGIN:STANDARD
TZOFFSETFROM:-0700
TZOFFSETTO:-0800
TZNAME:PST
DTSTART:20191103T090000
END:STANDARD
END:VTIMEZONE
BEGIN:VEVENT
DTSTART;TZID=America/Los_Angeles:20180616T130000
DTEND;TZID=America/Los_Angeles:20180616T153000
DTSTAMP:20260419T212911
CREATED:20180613T130709Z
LAST-MODIFIED:20180613T130709Z
UID:10000640-1529154000-1529163000@www.kki-sd.org
SUMMARY:Misa Kudus
DESCRIPTION:
URL:https://www.kki-sd.org/event/misa-kudus-68/
LOCATION:Guardian Angels Church\, 9310 Dalehurst Road\, Santee\, CA\, 92071
GEO:32.8596724;-117.0025746
X-APPLE-STRUCTURED-LOCATION;VALUE=URI;X-ADDRESS=Guardian Angels Church 9310 Dalehurst Road Santee CA 92071;X-APPLE-RADIUS=500;X-TITLE=9310 Dalehurst Road:geo:-117.0025746,32.8596724
END:VEVENT
BEGIN:VEVENT
DTSTART;TZID=America/Los_Angeles:20180512T130000
DTEND;TZID=America/Los_Angeles:20180512T153000
DTSTAMP:20260419T212911
CREATED:20180508T041308Z
LAST-MODIFIED:20180508T041308Z
UID:10000623-1526130000-1526139000@www.kki-sd.org
SUMMARY:Misa Kudus
DESCRIPTION:
URL:https://www.kki-sd.org/event/misa-kudus-61/
LOCATION:Guardian Angels Church\, 9310 Dalehurst Road\, Santee\, CA\, 92071
GEO:32.8596724;-117.0025746
X-APPLE-STRUCTURED-LOCATION;VALUE=URI;X-ADDRESS=Guardian Angels Church 9310 Dalehurst Road Santee CA 92071;X-APPLE-RADIUS=500;X-TITLE=9310 Dalehurst Road:geo:-117.0025746,32.8596724
END:VEVENT
BEGIN:VEVENT
DTSTART;TZID=America/Los_Angeles:20170617T130000
DTEND;TZID=America/Los_Angeles:20170617T150000
DTSTAMP:20260419T212911
CREATED:20170311T222849Z
LAST-MODIFIED:20170311T222849Z
UID:10000621-1497704400-1497711600@www.kki-sd.org
SUMMARY:Misa Kudus
DESCRIPTION:
URL:https://www.kki-sd.org/event/misa-kudus-60/
LOCATION:Guardian Angels Church\, 9310 Dalehurst Road\, Santee\, CA\, 92071
GEO:32.8596724;-117.0025746
X-APPLE-STRUCTURED-LOCATION;VALUE=URI;X-ADDRESS=Guardian Angels Church 9310 Dalehurst Road Santee CA 92071;X-APPLE-RADIUS=500;X-TITLE=9310 Dalehurst Road:geo:-117.0025746,32.8596724
END:VEVENT
BEGIN:VEVENT
DTSTART;TZID=America/Los_Angeles:20170603T120000
DTEND;TZID=America/Los_Angeles:20170603T153000
DTSTAMP:20260419T212911
CREATED:20170603T044243Z
LAST-MODIFIED:20170603T044243Z
UID:10000622-1496491200-1496503800@www.kki-sd.org
SUMMARY:Life Discussion
DESCRIPTION:Syallom teman-teman semua\,\n\nyok….dateng….3 Juni ini di Guardian Angel Church dari jam 12 sampe 3.30!!!\n\nDateng yah…..buat diskusi bareng tentang AnDi Lau!\n\nYang pasti makan siang akan tersedia diacara ini.\n\nBuat info lebih lanjut\, baca attachment yang terlampir yah!
URL:https://www.kki-sd.org/event/life-discussion/
LOCATION:Guardian Angels Church\, 9310 Dalehurst Road\, Santee\, CA\, 92071
GEO:32.8596724;-117.0025746
X-APPLE-STRUCTURED-LOCATION;VALUE=URI;X-ADDRESS=Guardian Angels Church 9310 Dalehurst Road Santee CA 92071;X-APPLE-RADIUS=500;X-TITLE=9310 Dalehurst Road:geo:-117.0025746,32.8596724
END:VEVENT
BEGIN:VEVENT
DTSTART;TZID=America/Los_Angeles:20170520T130000
DTEND;TZID=America/Los_Angeles:20170520T150000
DTSTAMP:20260419T212912
CREATED:20170311T222849Z
LAST-MODIFIED:20170311T222849Z
UID:10000620-1495285200-1495292400@www.kki-sd.org
SUMMARY:Misa Kudus
DESCRIPTION:
URL:https://www.kki-sd.org/event/misa-kudus-59/
LOCATION:Guardian Angels Church\, 9310 Dalehurst Road\, Santee\, CA\, 92071
GEO:32.8596724;-117.0025746
X-APPLE-STRUCTURED-LOCATION;VALUE=URI;X-ADDRESS=Guardian Angels Church 9310 Dalehurst Road Santee CA 92071;X-APPLE-RADIUS=500;X-TITLE=9310 Dalehurst Road:geo:-117.0025746,32.8596724
END:VEVENT
BEGIN:VEVENT
DTSTART;TZID=America/Los_Angeles:20170422T130000
DTEND;TZID=America/Los_Angeles:20170422T153000
DTSTAMP:20260419T212912
CREATED:20170311T222849Z
LAST-MODIFIED:20170415T012246Z
UID:10000619-1492866000-1492875000@www.kki-sd.org
SUMMARY:Misa Kudus
DESCRIPTION:
URL:https://www.kki-sd.org/event/misa-kudus-58/
LOCATION:Guardian Angels Church\, 9310 Dalehurst Road\, Santee\, CA\, 92071
GEO:32.8596724;-117.0025746
X-APPLE-STRUCTURED-LOCATION;VALUE=URI;X-ADDRESS=Guardian Angels Church 9310 Dalehurst Road Santee CA 92071;X-APPLE-RADIUS=500;X-TITLE=9310 Dalehurst Road:geo:-117.0025746,32.8596724
END:VEVENT
BEGIN:VEVENT
DTSTART;TZID=America/Los_Angeles:20170318T130000
DTEND;TZID=America/Los_Angeles:20170318T153000
DTSTAMP:20260419T212912
CREATED:20170311T222849Z
LAST-MODIFIED:20170311T222849Z
UID:10000618-1489842000-1489851000@www.kki-sd.org
SUMMARY:Misa Kudus
DESCRIPTION:
URL:https://www.kki-sd.org/event/misa-kudus-57/
LOCATION:Guardian Angels Church\, 9310 Dalehurst Road\, Santee\, CA\, 92071
GEO:32.8596724;-117.0025746
X-APPLE-STRUCTURED-LOCATION;VALUE=URI;X-ADDRESS=Guardian Angels Church 9310 Dalehurst Road Santee CA 92071;X-APPLE-RADIUS=500;X-TITLE=9310 Dalehurst Road:geo:-117.0025746,32.8596724
END:VEVENT
BEGIN:VEVENT
DTSTART;TZID=America/Los_Angeles:20170310T190000
DTEND;TZID=America/Los_Angeles:20170310T210000
DTSTAMP:20260419T212912
CREATED:20170311T222849Z
LAST-MODIFIED:20170311T222849Z
UID:10000617-1489172400-1489179600@www.kki-sd.org
SUMMARY:Doa Rosario
DESCRIPTION:
URL:https://www.kki-sd.org/event/doa-rosario-62/
LOCATION:Rumah Hans & Fanny
END:VEVENT
BEGIN:VEVENT
DTSTART;TZID=America/Los_Angeles:20170304T100000
DTEND;TZID=America/Los_Angeles:20170304T150000
DTSTAMP:20260419T212912
CREATED:20170311T222846Z
LAST-MODIFIED:20170311T222846Z
UID:10000616-1488621600-1488639600@www.kki-sd.org
SUMMARY:Rekoleksi Prapaskah - Romo Galih
DESCRIPTION:Panggilan orang Katolik “Finding your Joy\, not Happiness”.
URL:https://www.kki-sd.org/event/rekoleksi-prapaskah-romo-galih-2/
LOCATION:Guardian Angels Church\, 9310 Dalehurst Road\, Santee\, CA\, 92071
GEO:32.8596724;-117.0025746
X-APPLE-STRUCTURED-LOCATION;VALUE=URI;X-ADDRESS=Guardian Angels Church 9310 Dalehurst Road Santee CA 92071;X-APPLE-RADIUS=500;X-TITLE=9310 Dalehurst Road:geo:-117.0025746,32.8596724
END:VEVENT
BEGIN:VEVENT
DTSTART;TZID=America/Los_Angeles:20170218T010000
DTEND;TZID=America/Los_Angeles:20170218T033000
DTSTAMP:20260419T212912
CREATED:20170311T222846Z
LAST-MODIFIED:20170311T222846Z
UID:10000615-1487379600-1487388600@www.kki-sd.org
SUMMARY:Misa Kudus
DESCRIPTION:
URL:https://www.kki-sd.org/event/misa-kudus-56/
LOCATION:Guardian Angels Church\, 9310 Dalehurst Road\, Santee\, CA\, 92071
GEO:32.8596724;-117.0025746
X-APPLE-STRUCTURED-LOCATION;VALUE=URI;X-ADDRESS=Guardian Angels Church 9310 Dalehurst Road Santee CA 92071;X-APPLE-RADIUS=500;X-TITLE=9310 Dalehurst Road:geo:-117.0025746,32.8596724
END:VEVENT
BEGIN:VEVENT
DTSTART;TZID=America/Los_Angeles:20170204T100000
DTEND;TZID=America/Los_Angeles:20170204T123000
DTSTAMP:20260419T212912
CREATED:20170311T222846Z
LAST-MODIFIED:20170311T222846Z
UID:10000614-1486202400-1486211400@www.kki-sd.org
SUMMARY:Cell Group / PD
DESCRIPTION:Sharing Iman\, Sharing Firman\, Doa Syafaat
URL:https://www.kki-sd.org/event/cell-group-pd-2/
LOCATION:Guardian Angels Church\, 9310 Dalehurst Road\, Santee\, CA\, 92071
GEO:32.8596724;-117.0025746
X-APPLE-STRUCTURED-LOCATION;VALUE=URI;X-ADDRESS=Guardian Angels Church 9310 Dalehurst Road Santee CA 92071;X-APPLE-RADIUS=500;X-TITLE=9310 Dalehurst Road:geo:-117.0025746,32.8596724
END:VEVENT
BEGIN:VEVENT
DTSTART;TZID=America/Los_Angeles:20170128T000000
DTEND;TZID=America/Los_Angeles:20170128T000000
DTSTAMP:20260419T212912
CREATED:20170311T222845Z
LAST-MODIFIED:20170311T222845Z
UID:10000613-1485561600-1485561600@www.kki-sd.org
SUMMARY:Chinese New Year
DESCRIPTION:
URL:https://www.kki-sd.org/event/chinese-new-year-2/
LOCATION:CA
END:VEVENT
BEGIN:VEVENT
DTSTART;TZID=America/Los_Angeles:20170122T070000
DTEND;TZID=America/Los_Angeles:20170122T110000
DTSTAMP:20260419T212912
CREATED:20170311T222845Z
LAST-MODIFIED:20170311T222845Z
UID:10000612-1485068400-1485082800@www.kki-sd.org
SUMMARY:Feed the Homeless
DESCRIPTION:Meet at Costco/IKEA on Friars Road
URL:https://www.kki-sd.org/event/feed-the-homeless-2/
LOCATION:CA
END:VEVENT
BEGIN:VEVENT
DTSTART;TZID=America/Los_Angeles:20170121T010000
DTEND;TZID=America/Los_Angeles:20170121T033000
DTSTAMP:20260419T212912
CREATED:20170311T222841Z
LAST-MODIFIED:20170311T222841Z
UID:10000611-1484960400-1484969400@www.kki-sd.org
SUMMARY:Misa Kudus with Fr. Kevin & Fr. Ray
DESCRIPTION:
URL:https://www.kki-sd.org/event/misa-kudus-with-fr-kevin-fr-ray-2/
LOCATION:Guardian Angels Church\, 9310 Dalehurst Road\, Santee\, CA\, 92071
GEO:32.8596724;-117.0025746
X-APPLE-STRUCTURED-LOCATION;VALUE=URI;X-ADDRESS=Guardian Angels Church 9310 Dalehurst Road Santee CA 92071;X-APPLE-RADIUS=500;X-TITLE=9310 Dalehurst Road:geo:-117.0025746,32.8596724
END:VEVENT
BEGIN:VEVENT
DTSTART;TZID=America/Los_Angeles:20161203T100000
DTEND;TZID=America/Los_Angeles:20161203T153000
DTSTAMP:20260419T212912
CREATED:20170311T222841Z
LAST-MODIFIED:20170311T222841Z
UID:10000610-1480759200-1480779000@www.kki-sd.org
SUMMARY:Rekoleksi: Mengikuti Keluarga Kudus (MENGKUDU) - Rm. Effendi Kusuma Sunur
DESCRIPTION:
URL:https://www.kki-sd.org/event/rekoleksi-mengikuti-keluarga-kudus-mengkudu-rm-effendi-kusuma-sunur-2/
LOCATION:Guardian Angels Church\, 9310 Dalehurst Road\, Santee\, CA\, 92071
GEO:32.8596724;-117.0025746
X-APPLE-STRUCTURED-LOCATION;VALUE=URI;X-ADDRESS=Guardian Angels Church 9310 Dalehurst Road Santee CA 92071;X-APPLE-RADIUS=500;X-TITLE=9310 Dalehurst Road:geo:-117.0025746,32.8596724
END:VEVENT
BEGIN:VEVENT
DTSTART;VALUE=DATE:20161124
DTEND;VALUE=DATE:20161125
DTSTAMP:20260419T212912
CREATED:20170311T222841Z
LAST-MODIFIED:20170311T222841Z
UID:10000609-1479945600-1480031999@www.kki-sd.org
SUMMARY:Thanksgiving Holiday
DESCRIPTION:
URL:https://www.kki-sd.org/event/thanksgiving-holiday-2/
LOCATION:CA
END:VEVENT
BEGIN:VEVENT
DTSTART;TZID=America/Los_Angeles:20161119T130000
DTEND;TZID=America/Los_Angeles:20161119T153000
DTSTAMP:20260419T212912
CREATED:20170311T222841Z
LAST-MODIFIED:20170311T222841Z
UID:10000608-1479560400-1479569400@www.kki-sd.org
SUMMARY:Misa Kudus - Rm Ray
DESCRIPTION:
URL:https://www.kki-sd.org/event/misa-kudus-rm-ray-13/
LOCATION:Guardian Angels Church\, 9310 Dalehurst Road\, Santee\, CA\, 92071
GEO:32.8596724;-117.0025746
X-APPLE-STRUCTURED-LOCATION;VALUE=URI;X-ADDRESS=Guardian Angels Church 9310 Dalehurst Road Santee CA 92071;X-APPLE-RADIUS=500;X-TITLE=9310 Dalehurst Road:geo:-117.0025746,32.8596724
END:VEVENT
BEGIN:VEVENT
DTSTART;TZID=America/Los_Angeles:20161112T110000
DTEND;TZID=America/Los_Angeles:20161112T133000
DTSTAMP:20260419T212912
CREATED:20170311T222841Z
LAST-MODIFIED:20170311T222841Z
UID:10000607-1478948400-1478957400@www.kki-sd.org
SUMMARY:Doa Rosario - 2 tahun wafatnya Feli
DESCRIPTION:
URL:https://www.kki-sd.org/event/doa-rosario-2-tahun-wafatnya-feli/
LOCATION:Rumah Beatrix
END:VEVENT
BEGIN:VEVENT
DTSTART;TZID=America/Los_Angeles:20161105T130000
DTEND;TZID=America/Los_Angeles:20161105T150000
DTSTAMP:20260419T212912
CREATED:20170311T222838Z
LAST-MODIFIED:20170311T222838Z
UID:10000606-1478350800-1478358000@www.kki-sd.org
SUMMARY:Faith Building
DESCRIPTION:
URL:https://www.kki-sd.org/event/faith-building-14/
LOCATION:Guardian Angels Church\, 9310 Dalehurst Road\, Santee\, CA\, 92071
GEO:32.8596724;-117.0025746
X-APPLE-STRUCTURED-LOCATION;VALUE=URI;X-ADDRESS=Guardian Angels Church 9310 Dalehurst Road Santee CA 92071;X-APPLE-RADIUS=500;X-TITLE=9310 Dalehurst Road:geo:-117.0025746,32.8596724
END:VEVENT
BEGIN:VEVENT
DTSTART;TZID=America/Los_Angeles:20161015T130000
DTEND;TZID=America/Los_Angeles:20161015T153000
DTSTAMP:20260419T212912
CREATED:20170311T222838Z
LAST-MODIFIED:20170311T222838Z
UID:10000605-1476536400-1476545400@www.kki-sd.org
SUMMARY:Misa Kudus - Rm Ray
DESCRIPTION:
URL:https://www.kki-sd.org/event/misa-kudus-rm-ray-12/
LOCATION:Guardian Angels Church\, 9310 Dalehurst Road\, Santee\, CA\, 92071
GEO:32.8596724;-117.0025746
X-APPLE-STRUCTURED-LOCATION;VALUE=URI;X-ADDRESS=Guardian Angels Church 9310 Dalehurst Road Santee CA 92071;X-APPLE-RADIUS=500;X-TITLE=9310 Dalehurst Road:geo:-117.0025746,32.8596724
END:VEVENT
BEGIN:VEVENT
DTSTART;TZID=America/Los_Angeles:20161014T190000
DTEND;TZID=America/Los_Angeles:20161014T210000
DTSTAMP:20260419T212912
CREATED:20170311T222838Z
LAST-MODIFIED:20170311T222838Z
UID:10000543-1476471600-1476478800@www.kki-sd.org
SUMMARY:Doa Rosario
DESCRIPTION:
URL:https://www.kki-sd.org/event/doa-rosario-61/
LOCATION:Rumah Riko & Patricia
END:VEVENT
BEGIN:VEVENT
DTSTART;TZID=America/Los_Angeles:20161007T000000
DTEND;TZID=America/Los_Angeles:20161007T000000
DTSTAMP:20260419T212912
CREATED:20170311T222838Z
LAST-MODIFIED:20170311T222838Z
UID:10000541-1475798400-1475798400@www.kki-sd.org
SUMMARY:GAC Fall Festival
DESCRIPTION:
URL:https://www.kki-sd.org/event/gac-fall-festival-6/
LOCATION:Guardian Angels Church\, 9310 Dalehurst Road\, Santee\, CA\, 92071
GEO:32.8596724;-117.0025746
X-APPLE-STRUCTURED-LOCATION;VALUE=URI;X-ADDRESS=Guardian Angels Church 9310 Dalehurst Road Santee CA 92071;X-APPLE-RADIUS=500;X-TITLE=9310 Dalehurst Road:geo:-117.0025746,32.8596724
END:VEVENT
BEGIN:VEVENT
DTSTART;TZID=America/Los_Angeles:20161001T070000
DTEND;TZID=America/Los_Angeles:20161001T100000
DTSTAMP:20260419T212912
CREATED:20170311T222838Z
LAST-MODIFIED:20170311T222838Z
UID:10000539-1475305200-1475316000@www.kki-sd.org
SUMMARY:Volleyball
DESCRIPTION:
URL:https://www.kki-sd.org/event/volleyball-7/
LOCATION:Stonebridge Neighborhood Park\, Sycamore Trail Rd\, San Diego\, CA\, 92131
GEO:32.9238417;-117.018358
X-APPLE-STRUCTURED-LOCATION;VALUE=URI;X-ADDRESS=Stonebridge Neighborhood Park Sycamore Trail Rd San Diego CA 92131;X-APPLE-RADIUS=500;X-TITLE=Sycamore Trail Rd:geo:-117.018358,32.9238417
END:VEVENT
BEGIN:VEVENT
DTSTART;TZID=America/Los_Angeles:20160919T190000
DTEND;TZID=America/Los_Angeles:20160919T210000
DTSTAMP:20260419T212912
CREATED:20170311T222835Z
LAST-MODIFIED:20170311T222835Z
UID:10000537-1474311600-1474318800@www.kki-sd.org
SUMMARY:Doa Rosario - 1 tahun wafatnya TJ
DESCRIPTION:
URL:https://www.kki-sd.org/event/doa-rosario-1-tahun-wafatnya-tj/
LOCATION:Rumah Ci Porry
END:VEVENT
BEGIN:VEVENT
DTSTART;TZID=America/Los_Angeles:20160917T130000
DTEND;TZID=America/Los_Angeles:20160917T153000
DTSTAMP:20260419T212912
CREATED:20170311T222835Z
LAST-MODIFIED:20170311T222835Z
UID:10000535-1474117200-1474126200@www.kki-sd.org
SUMMARY:Misa Kudus - Rm Ray
DESCRIPTION:
URL:https://www.kki-sd.org/event/misa-kudus-rm-ray-11/
LOCATION:Guardian Angels Church\, 9310 Dalehurst Road\, Santee\, CA\, 92071
GEO:32.8596724;-117.0025746
X-APPLE-STRUCTURED-LOCATION;VALUE=URI;X-ADDRESS=Guardian Angels Church 9310 Dalehurst Road Santee CA 92071;X-APPLE-RADIUS=500;X-TITLE=9310 Dalehurst Road:geo:-117.0025746,32.8596724
END:VEVENT
BEGIN:VEVENT
DTSTART;VALUE=DATE:20160905
DTEND;VALUE=DATE:20160906
DTSTAMP:20260419T212912
CREATED:20170311T222835Z
LAST-MODIFIED:20170311T222835Z
UID:10000533-1473033600-1473119999@www.kki-sd.org
SUMMARY:Labor Day Holiday
DESCRIPTION:
URL:https://www.kki-sd.org/event/labor-day-holiday-2/
LOCATION:CA
END:VEVENT
BEGIN:VEVENT
DTSTART;TZID=America/Los_Angeles:20160903T110000
DTEND;TZID=America/Los_Angeles:20160903T133000
DTSTAMP:20260419T212912
CREATED:20170311T222834Z
LAST-MODIFIED:20170311T222834Z
UID:10000531-1472900400-1472909400@www.kki-sd.org
SUMMARY:Doa Rosario + Pendalaman Iman with Fr. Jose
DESCRIPTION:Kehadiran Nyata Tubuh dan Darah Tuhan Yesus dalam Ekaristi
URL:https://www.kki-sd.org/event/doa-rosario-pendalaman-iman-with-fr-jose/
LOCATION:Rumah Steve & Suzan
END:VEVENT
BEGIN:VEVENT
DTSTART;TZID=America/Los_Angeles:20160827T130000
DTEND;TZID=America/Los_Angeles:20160827T150000
DTSTAMP:20260419T212912
CREATED:20170311T222834Z
LAST-MODIFIED:20170311T222834Z
UID:10000529-1472302800-1472310000@www.kki-sd.org
SUMMARY:Misa Kudus - Rm Ray
DESCRIPTION:
URL:https://www.kki-sd.org/event/misa-kudus-rm-ray-10/
LOCATION:Guardian Angels Church\, 9310 Dalehurst Road\, Santee\, CA\, 92071
GEO:32.8596724;-117.0025746
X-APPLE-STRUCTURED-LOCATION;VALUE=URI;X-ADDRESS=Guardian Angels Church 9310 Dalehurst Road Santee CA 92071;X-APPLE-RADIUS=500;X-TITLE=9310 Dalehurst Road:geo:-117.0025746,32.8596724
END:VEVENT
BEGIN:VEVENT
DTSTART;TZID=America/Los_Angeles:20160820T110000
DTEND;TZID=America/Los_Angeles:20160820T160000
DTSTAMP:20260419T212912
CREATED:20170311T222829Z
LAST-MODIFIED:20170311T222829Z
UID:10000527-1471690800-1471708800@www.kki-sd.org
SUMMARY:Piknik 17 Agustus Gabungan KKI-SoCal
DESCRIPTION:
URL:https://www.kki-sd.org/event/piknik-17-agustus-gabungan-kki-socal-2/
LOCATION:Doheny State Beach\, Dana Point\, CA\, 92624
GEO:33.4559258;-117.6640187
END:VEVENT
BEGIN:VEVENT
DTSTART;TZID=America/Los_Angeles:20160812T190000
DTEND;TZID=America/Los_Angeles:20160812T210000
DTSTAMP:20260419T212912
CREATED:20170311T222829Z
LAST-MODIFIED:20170311T222829Z
UID:10000525-1471028400-1471035600@www.kki-sd.org
SUMMARY:Doa Rosario
DESCRIPTION:
URL:https://www.kki-sd.org/event/doa-rosario-60/
LOCATION:Rumah Agus & Tanti
END:VEVENT
END:VCALENDAR