BEGIN:VCALENDAR
VERSION:2.0
PRODID:-//Keluarga Katolik Indonesia - San Diego - ECPv6.15.20//NONSGML v1.0//EN
CALSCALE:GREGORIAN
METHOD:PUBLISH
X-WR-CALNAME:Keluarga Katolik Indonesia - San Diego
X-ORIGINAL-URL:https://www.kki-sd.org
X-WR-CALDESC:Events for Keluarga Katolik Indonesia - San Diego
REFRESH-INTERVAL;VALUE=DURATION:PT1H
X-Robots-Tag:noindex
X-PUBLISHED-TTL:PT1H
BEGIN:VTIMEZONE
TZID:America/Los_Angeles
BEGIN:DAYLIGHT
TZOFFSETFROM:-0800
TZOFFSETTO:-0700
TZNAME:PDT
DTSTART:20190310T100000
END:DAYLIGHT
BEGIN:STANDARD
TZOFFSETFROM:-0700
TZOFFSETTO:-0800
TZNAME:PST
DTSTART:20191103T090000
END:STANDARD
BEGIN:DAYLIGHT
TZOFFSETFROM:-0800
TZOFFSETTO:-0700
TZNAME:PDT
DTSTART:20200308T100000
END:DAYLIGHT
BEGIN:STANDARD
TZOFFSETFROM:-0700
TZOFFSETTO:-0800
TZNAME:PST
DTSTART:20201101T090000
END:STANDARD
BEGIN:DAYLIGHT
TZOFFSETFROM:-0800
TZOFFSETTO:-0700
TZNAME:PDT
DTSTART:20210314T100000
END:DAYLIGHT
BEGIN:STANDARD
TZOFFSETFROM:-0700
TZOFFSETTO:-0800
TZNAME:PST
DTSTART:20211107T090000
END:STANDARD
BEGIN:DAYLIGHT
TZOFFSETFROM:-0800
TZOFFSETTO:-0700
TZNAME:PDT
DTSTART:20220313T100000
END:DAYLIGHT
BEGIN:STANDARD
TZOFFSETFROM:-0700
TZOFFSETTO:-0800
TZNAME:PST
DTSTART:20221106T090000
END:STANDARD
BEGIN:DAYLIGHT
TZOFFSETFROM:-0800
TZOFFSETTO:-0700
TZNAME:PDT
DTSTART:20230312T100000
END:DAYLIGHT
BEGIN:STANDARD
TZOFFSETFROM:-0700
TZOFFSETTO:-0800
TZNAME:PST
DTSTART:20231105T090000
END:STANDARD
END:VTIMEZONE
BEGIN:VEVENT
DTSTART;TZID=America/Los_Angeles:20220618T130000
DTEND;TZID=America/Los_Angeles:20220618T140000
DTSTAMP:20260419T170057
CREATED:20190218T175029Z
LAST-MODIFIED:20190218T175717Z
UID:10000679-1655557200-1655560800@www.kki-sd.org
SUMMARY:Misa Kudus
DESCRIPTION:
URL:https://www.kki-sd.org/event/misa-kudus-bulanan/2022-06-18/
LOCATION:Guardian Angels Church\, 9310 Dalehurst Road\, Santee\, CA\, 92071
GEO:32.8596724;-117.0025746
X-APPLE-STRUCTURED-LOCATION;VALUE=URI;X-ADDRESS=Guardian Angels Church 9310 Dalehurst Road Santee CA 92071;X-APPLE-RADIUS=500;X-TITLE=9310 Dalehurst Road:geo:-117.0025746,32.8596724
END:VEVENT
BEGIN:VEVENT
DTSTART;TZID=America/Los_Angeles:20220521T130000
DTEND;TZID=America/Los_Angeles:20220521T140000
DTSTAMP:20260419T170057
CREATED:20190218T175029Z
LAST-MODIFIED:20190218T175717Z
UID:10000678-1653138000-1653141600@www.kki-sd.org
SUMMARY:Misa Kudus
DESCRIPTION:
URL:https://www.kki-sd.org/event/misa-kudus-bulanan/2022-05-21/
LOCATION:Guardian Angels Church\, 9310 Dalehurst Road\, Santee\, CA\, 92071
GEO:32.8596724;-117.0025746
X-APPLE-STRUCTURED-LOCATION;VALUE=URI;X-ADDRESS=Guardian Angels Church 9310 Dalehurst Road Santee CA 92071;X-APPLE-RADIUS=500;X-TITLE=9310 Dalehurst Road:geo:-117.0025746,32.8596724
END:VEVENT
BEGIN:VEVENT
DTSTART;TZID=America/Los_Angeles:20220416T130000
DTEND;TZID=America/Los_Angeles:20220416T140000
DTSTAMP:20260419T170057
CREATED:20190218T175029Z
LAST-MODIFIED:20190218T175717Z
UID:10000677-1650114000-1650117600@www.kki-sd.org
SUMMARY:Misa Kudus
DESCRIPTION:
URL:https://www.kki-sd.org/event/misa-kudus-bulanan/2022-04-16/
LOCATION:Guardian Angels Church\, 9310 Dalehurst Road\, Santee\, CA\, 92071
GEO:32.8596724;-117.0025746
X-APPLE-STRUCTURED-LOCATION;VALUE=URI;X-ADDRESS=Guardian Angels Church 9310 Dalehurst Road Santee CA 92071;X-APPLE-RADIUS=500;X-TITLE=9310 Dalehurst Road:geo:-117.0025746,32.8596724
END:VEVENT
BEGIN:VEVENT
DTSTART;TZID=America/Los_Angeles:20220319T130000
DTEND;TZID=America/Los_Angeles:20220319T140000
DTSTAMP:20260419T170057
CREATED:20190218T175029Z
LAST-MODIFIED:20190218T175717Z
UID:10000676-1647694800-1647698400@www.kki-sd.org
SUMMARY:Misa Kudus
DESCRIPTION:
URL:https://www.kki-sd.org/event/misa-kudus-bulanan/2022-03-19/
LOCATION:Guardian Angels Church\, 9310 Dalehurst Road\, Santee\, CA\, 92071
GEO:32.8596724;-117.0025746
X-APPLE-STRUCTURED-LOCATION;VALUE=URI;X-ADDRESS=Guardian Angels Church 9310 Dalehurst Road Santee CA 92071;X-APPLE-RADIUS=500;X-TITLE=9310 Dalehurst Road:geo:-117.0025746,32.8596724
END:VEVENT
BEGIN:VEVENT
DTSTART;TZID=America/Los_Angeles:20220219T130000
DTEND;TZID=America/Los_Angeles:20220219T140000
DTSTAMP:20260419T170057
CREATED:20190218T175029Z
LAST-MODIFIED:20190218T175717Z
UID:10000675-1645275600-1645279200@www.kki-sd.org
SUMMARY:Misa Kudus
DESCRIPTION:
URL:https://www.kki-sd.org/event/misa-kudus-bulanan/2022-02-19/
LOCATION:Guardian Angels Church\, 9310 Dalehurst Road\, Santee\, CA\, 92071
GEO:32.8596724;-117.0025746
X-APPLE-STRUCTURED-LOCATION;VALUE=URI;X-ADDRESS=Guardian Angels Church 9310 Dalehurst Road Santee CA 92071;X-APPLE-RADIUS=500;X-TITLE=9310 Dalehurst Road:geo:-117.0025746,32.8596724
END:VEVENT
BEGIN:VEVENT
DTSTART;TZID=America/Los_Angeles:20220115T130000
DTEND;TZID=America/Los_Angeles:20220115T140000
DTSTAMP:20260419T170057
CREATED:20190218T175029Z
LAST-MODIFIED:20190218T175717Z
UID:10000674-1642251600-1642255200@www.kki-sd.org
SUMMARY:Misa Kudus
DESCRIPTION:
URL:https://www.kki-sd.org/event/misa-kudus-bulanan/2022-01-15/
LOCATION:Guardian Angels Church\, 9310 Dalehurst Road\, Santee\, CA\, 92071
GEO:32.8596724;-117.0025746
X-APPLE-STRUCTURED-LOCATION;VALUE=URI;X-ADDRESS=Guardian Angels Church 9310 Dalehurst Road Santee CA 92071;X-APPLE-RADIUS=500;X-TITLE=9310 Dalehurst Road:geo:-117.0025746,32.8596724
END:VEVENT
BEGIN:VEVENT
DTSTART;TZID=America/Los_Angeles:20211218T130000
DTEND;TZID=America/Los_Angeles:20211218T140000
DTSTAMP:20260419T170057
CREATED:20190218T175029Z
LAST-MODIFIED:20190218T175717Z
UID:10000673-1639832400-1639836000@www.kki-sd.org
SUMMARY:Misa Kudus
DESCRIPTION:
URL:https://www.kki-sd.org/event/misa-kudus-bulanan/2021-12-18/
LOCATION:Guardian Angels Church\, 9310 Dalehurst Road\, Santee\, CA\, 92071
GEO:32.8596724;-117.0025746
X-APPLE-STRUCTURED-LOCATION;VALUE=URI;X-ADDRESS=Guardian Angels Church 9310 Dalehurst Road Santee CA 92071;X-APPLE-RADIUS=500;X-TITLE=9310 Dalehurst Road:geo:-117.0025746,32.8596724
END:VEVENT
BEGIN:VEVENT
DTSTART;TZID=America/Los_Angeles:20211120T130000
DTEND;TZID=America/Los_Angeles:20211120T140000
DTSTAMP:20260419T170057
CREATED:20190218T175029Z
LAST-MODIFIED:20190218T175717Z
UID:10000672-1637413200-1637416800@www.kki-sd.org
SUMMARY:Misa Kudus
DESCRIPTION:
URL:https://www.kki-sd.org/event/misa-kudus-bulanan/2021-11-20/
LOCATION:Guardian Angels Church\, 9310 Dalehurst Road\, Santee\, CA\, 92071
GEO:32.8596724;-117.0025746
X-APPLE-STRUCTURED-LOCATION;VALUE=URI;X-ADDRESS=Guardian Angels Church 9310 Dalehurst Road Santee CA 92071;X-APPLE-RADIUS=500;X-TITLE=9310 Dalehurst Road:geo:-117.0025746,32.8596724
END:VEVENT
BEGIN:VEVENT
DTSTART;TZID=America/Los_Angeles:20211016T130000
DTEND;TZID=America/Los_Angeles:20211016T140000
DTSTAMP:20260419T170057
CREATED:20190218T175029Z
LAST-MODIFIED:20190218T175717Z
UID:10000671-1634389200-1634392800@www.kki-sd.org
SUMMARY:Misa Kudus
DESCRIPTION:
URL:https://www.kki-sd.org/event/misa-kudus-bulanan/2021-10-16/
LOCATION:Guardian Angels Church\, 9310 Dalehurst Road\, Santee\, CA\, 92071
GEO:32.8596724;-117.0025746
X-APPLE-STRUCTURED-LOCATION;VALUE=URI;X-ADDRESS=Guardian Angels Church 9310 Dalehurst Road Santee CA 92071;X-APPLE-RADIUS=500;X-TITLE=9310 Dalehurst Road:geo:-117.0025746,32.8596724
END:VEVENT
BEGIN:VEVENT
DTSTART;TZID=America/Los_Angeles:20210918T130000
DTEND;TZID=America/Los_Angeles:20210918T140000
DTSTAMP:20260419T170057
CREATED:20190218T175029Z
LAST-MODIFIED:20190218T175717Z
UID:10000670-1631970000-1631973600@www.kki-sd.org
SUMMARY:Misa Kudus
DESCRIPTION:
URL:https://www.kki-sd.org/event/misa-kudus-bulanan/2021-09-18/
LOCATION:Guardian Angels Church\, 9310 Dalehurst Road\, Santee\, CA\, 92071
GEO:32.8596724;-117.0025746
X-APPLE-STRUCTURED-LOCATION;VALUE=URI;X-ADDRESS=Guardian Angels Church 9310 Dalehurst Road Santee CA 92071;X-APPLE-RADIUS=500;X-TITLE=9310 Dalehurst Road:geo:-117.0025746,32.8596724
END:VEVENT
BEGIN:VEVENT
DTSTART;TZID=America/Los_Angeles:20210821T130000
DTEND;TZID=America/Los_Angeles:20210821T140000
DTSTAMP:20260419T170057
CREATED:20190218T175029Z
LAST-MODIFIED:20190218T175717Z
UID:10000669-1629550800-1629554400@www.kki-sd.org
SUMMARY:Misa Kudus
DESCRIPTION:
URL:https://www.kki-sd.org/event/misa-kudus-bulanan/2021-08-21/
LOCATION:Guardian Angels Church\, 9310 Dalehurst Road\, Santee\, CA\, 92071
GEO:32.8596724;-117.0025746
X-APPLE-STRUCTURED-LOCATION;VALUE=URI;X-ADDRESS=Guardian Angels Church 9310 Dalehurst Road Santee CA 92071;X-APPLE-RADIUS=500;X-TITLE=9310 Dalehurst Road:geo:-117.0025746,32.8596724
END:VEVENT
BEGIN:VEVENT
DTSTART;TZID=America/Los_Angeles:20210717T130000
DTEND;TZID=America/Los_Angeles:20210717T140000
DTSTAMP:20260419T170057
CREATED:20190218T175029Z
LAST-MODIFIED:20190218T175717Z
UID:10000668-1626526800-1626530400@www.kki-sd.org
SUMMARY:Misa Kudus
DESCRIPTION:
URL:https://www.kki-sd.org/event/misa-kudus-bulanan/2021-07-17/
LOCATION:Guardian Angels Church\, 9310 Dalehurst Road\, Santee\, CA\, 92071
GEO:32.8596724;-117.0025746
X-APPLE-STRUCTURED-LOCATION;VALUE=URI;X-ADDRESS=Guardian Angels Church 9310 Dalehurst Road Santee CA 92071;X-APPLE-RADIUS=500;X-TITLE=9310 Dalehurst Road:geo:-117.0025746,32.8596724
END:VEVENT
BEGIN:VEVENT
DTSTART;TZID=America/Los_Angeles:20210619T130000
DTEND;TZID=America/Los_Angeles:20210619T140000
DTSTAMP:20260419T170057
CREATED:20190218T175029Z
LAST-MODIFIED:20190218T175717Z
UID:10000667-1624107600-1624111200@www.kki-sd.org
SUMMARY:Misa Kudus
DESCRIPTION:
URL:https://www.kki-sd.org/event/misa-kudus-bulanan/2021-06-19/
LOCATION:Guardian Angels Church\, 9310 Dalehurst Road\, Santee\, CA\, 92071
GEO:32.8596724;-117.0025746
X-APPLE-STRUCTURED-LOCATION;VALUE=URI;X-ADDRESS=Guardian Angels Church 9310 Dalehurst Road Santee CA 92071;X-APPLE-RADIUS=500;X-TITLE=9310 Dalehurst Road:geo:-117.0025746,32.8596724
END:VEVENT
BEGIN:VEVENT
DTSTART;TZID=America/Los_Angeles:20210515T130000
DTEND;TZID=America/Los_Angeles:20210515T140000
DTSTAMP:20260419T170057
CREATED:20190218T175029Z
LAST-MODIFIED:20190218T175717Z
UID:10000666-1621083600-1621087200@www.kki-sd.org
SUMMARY:Misa Kudus
DESCRIPTION:
URL:https://www.kki-sd.org/event/misa-kudus-bulanan/2021-05-15/
LOCATION:Guardian Angels Church\, 9310 Dalehurst Road\, Santee\, CA\, 92071
GEO:32.8596724;-117.0025746
X-APPLE-STRUCTURED-LOCATION;VALUE=URI;X-ADDRESS=Guardian Angels Church 9310 Dalehurst Road Santee CA 92071;X-APPLE-RADIUS=500;X-TITLE=9310 Dalehurst Road:geo:-117.0025746,32.8596724
END:VEVENT
BEGIN:VEVENT
DTSTART;TZID=America/Los_Angeles:20210417T130000
DTEND;TZID=America/Los_Angeles:20210417T140000
DTSTAMP:20260419T170057
CREATED:20190218T175029Z
LAST-MODIFIED:20190218T175717Z
UID:10000665-1618664400-1618668000@www.kki-sd.org
SUMMARY:Misa Kudus
DESCRIPTION:
URL:https://www.kki-sd.org/event/misa-kudus-bulanan/2021-04-17/
LOCATION:Guardian Angels Church\, 9310 Dalehurst Road\, Santee\, CA\, 92071
GEO:32.8596724;-117.0025746
X-APPLE-STRUCTURED-LOCATION;VALUE=URI;X-ADDRESS=Guardian Angels Church 9310 Dalehurst Road Santee CA 92071;X-APPLE-RADIUS=500;X-TITLE=9310 Dalehurst Road:geo:-117.0025746,32.8596724
END:VEVENT
BEGIN:VEVENT
DTSTART;TZID=America/Los_Angeles:20210320T130000
DTEND;TZID=America/Los_Angeles:20210320T140000
DTSTAMP:20260419T170057
CREATED:20190218T175029Z
LAST-MODIFIED:20190218T175717Z
UID:10000664-1616245200-1616248800@www.kki-sd.org
SUMMARY:Misa Kudus
DESCRIPTION:
URL:https://www.kki-sd.org/event/misa-kudus-bulanan/2021-03-20/
LOCATION:Guardian Angels Church\, 9310 Dalehurst Road\, Santee\, CA\, 92071
GEO:32.8596724;-117.0025746
X-APPLE-STRUCTURED-LOCATION;VALUE=URI;X-ADDRESS=Guardian Angels Church 9310 Dalehurst Road Santee CA 92071;X-APPLE-RADIUS=500;X-TITLE=9310 Dalehurst Road:geo:-117.0025746,32.8596724
END:VEVENT
BEGIN:VEVENT
DTSTART;TZID=America/Los_Angeles:20210220T130000
DTEND;TZID=America/Los_Angeles:20210220T140000
DTSTAMP:20260419T170057
CREATED:20190218T175029Z
LAST-MODIFIED:20190218T175717Z
UID:10000663-1613826000-1613829600@www.kki-sd.org
SUMMARY:Misa Kudus
DESCRIPTION:
URL:https://www.kki-sd.org/event/misa-kudus-bulanan/2021-02-20/
LOCATION:Guardian Angels Church\, 9310 Dalehurst Road\, Santee\, CA\, 92071
GEO:32.8596724;-117.0025746
X-APPLE-STRUCTURED-LOCATION;VALUE=URI;X-ADDRESS=Guardian Angels Church 9310 Dalehurst Road Santee CA 92071;X-APPLE-RADIUS=500;X-TITLE=9310 Dalehurst Road:geo:-117.0025746,32.8596724
END:VEVENT
BEGIN:VEVENT
DTSTART;TZID=America/Los_Angeles:20210116T130000
DTEND;TZID=America/Los_Angeles:20210116T140000
DTSTAMP:20260419T170057
CREATED:20190218T175029Z
LAST-MODIFIED:20190218T175717Z
UID:10000662-1610802000-1610805600@www.kki-sd.org
SUMMARY:Misa Kudus
DESCRIPTION:
URL:https://www.kki-sd.org/event/misa-kudus-bulanan/2021-01-16/
LOCATION:Guardian Angels Church\, 9310 Dalehurst Road\, Santee\, CA\, 92071
GEO:32.8596724;-117.0025746
X-APPLE-STRUCTURED-LOCATION;VALUE=URI;X-ADDRESS=Guardian Angels Church 9310 Dalehurst Road Santee CA 92071;X-APPLE-RADIUS=500;X-TITLE=9310 Dalehurst Road:geo:-117.0025746,32.8596724
END:VEVENT
BEGIN:VEVENT
DTSTART;TZID=America/Los_Angeles:20201219T130000
DTEND;TZID=America/Los_Angeles:20201219T140000
DTSTAMP:20260419T170057
CREATED:20190218T175029Z
LAST-MODIFIED:20190218T175717Z
UID:10000661-1608382800-1608386400@www.kki-sd.org
SUMMARY:Misa Kudus
DESCRIPTION:
URL:https://www.kki-sd.org/event/misa-kudus-bulanan/2020-12-19/
LOCATION:Guardian Angels Church\, 9310 Dalehurst Road\, Santee\, CA\, 92071
GEO:32.8596724;-117.0025746
X-APPLE-STRUCTURED-LOCATION;VALUE=URI;X-ADDRESS=Guardian Angels Church 9310 Dalehurst Road Santee CA 92071;X-APPLE-RADIUS=500;X-TITLE=9310 Dalehurst Road:geo:-117.0025746,32.8596724
END:VEVENT
BEGIN:VEVENT
DTSTART;TZID=America/Los_Angeles:20201121T130000
DTEND;TZID=America/Los_Angeles:20201121T140000
DTSTAMP:20260419T170057
CREATED:20190218T175029Z
LAST-MODIFIED:20190218T175717Z
UID:10000660-1605963600-1605967200@www.kki-sd.org
SUMMARY:Misa Kudus
DESCRIPTION:
URL:https://www.kki-sd.org/event/misa-kudus-bulanan/2020-11-21/
LOCATION:Guardian Angels Church\, 9310 Dalehurst Road\, Santee\, CA\, 92071
GEO:32.8596724;-117.0025746
X-APPLE-STRUCTURED-LOCATION;VALUE=URI;X-ADDRESS=Guardian Angels Church 9310 Dalehurst Road Santee CA 92071;X-APPLE-RADIUS=500;X-TITLE=9310 Dalehurst Road:geo:-117.0025746,32.8596724
END:VEVENT
BEGIN:VEVENT
DTSTART;TZID=America/Los_Angeles:20201017T130000
DTEND;TZID=America/Los_Angeles:20201017T140000
DTSTAMP:20260419T170057
CREATED:20190218T175029Z
LAST-MODIFIED:20190218T175717Z
UID:10000659-1602939600-1602943200@www.kki-sd.org
SUMMARY:Misa Kudus
DESCRIPTION:
URL:https://www.kki-sd.org/event/misa-kudus-bulanan/2020-10-17/
LOCATION:Guardian Angels Church\, 9310 Dalehurst Road\, Santee\, CA\, 92071
GEO:32.8596724;-117.0025746
X-APPLE-STRUCTURED-LOCATION;VALUE=URI;X-ADDRESS=Guardian Angels Church 9310 Dalehurst Road Santee CA 92071;X-APPLE-RADIUS=500;X-TITLE=9310 Dalehurst Road:geo:-117.0025746,32.8596724
END:VEVENT
BEGIN:VEVENT
DTSTART;TZID=America/Los_Angeles:20200919T130000
DTEND;TZID=America/Los_Angeles:20200919T140000
DTSTAMP:20260419T170057
CREATED:20190218T175029Z
LAST-MODIFIED:20190218T175717Z
UID:10000658-1600520400-1600524000@www.kki-sd.org
SUMMARY:Misa Kudus
DESCRIPTION:
URL:https://www.kki-sd.org/event/misa-kudus-bulanan/2020-09-19/
LOCATION:Guardian Angels Church\, 9310 Dalehurst Road\, Santee\, CA\, 92071
GEO:32.8596724;-117.0025746
X-APPLE-STRUCTURED-LOCATION;VALUE=URI;X-ADDRESS=Guardian Angels Church 9310 Dalehurst Road Santee CA 92071;X-APPLE-RADIUS=500;X-TITLE=9310 Dalehurst Road:geo:-117.0025746,32.8596724
END:VEVENT
BEGIN:VEVENT
DTSTART;TZID=America/Los_Angeles:20200815T130000
DTEND;TZID=America/Los_Angeles:20200815T140000
DTSTAMP:20260419T170057
CREATED:20190218T175029Z
LAST-MODIFIED:20190218T175717Z
UID:10000657-1597496400-1597500000@www.kki-sd.org
SUMMARY:Misa Kudus
DESCRIPTION:
URL:https://www.kki-sd.org/event/misa-kudus-bulanan/2020-08-15/
LOCATION:Guardian Angels Church\, 9310 Dalehurst Road\, Santee\, CA\, 92071
GEO:32.8596724;-117.0025746
X-APPLE-STRUCTURED-LOCATION;VALUE=URI;X-ADDRESS=Guardian Angels Church 9310 Dalehurst Road Santee CA 92071;X-APPLE-RADIUS=500;X-TITLE=9310 Dalehurst Road:geo:-117.0025746,32.8596724
END:VEVENT
BEGIN:VEVENT
DTSTART;TZID=America/Los_Angeles:20200718T130000
DTEND;TZID=America/Los_Angeles:20200718T140000
DTSTAMP:20260419T170057
CREATED:20190218T175029Z
LAST-MODIFIED:20190218T175717Z
UID:10000656-1595077200-1595080800@www.kki-sd.org
SUMMARY:Misa Kudus
DESCRIPTION:
URL:https://www.kki-sd.org/event/misa-kudus-bulanan/2020-07-18/
LOCATION:Guardian Angels Church\, 9310 Dalehurst Road\, Santee\, CA\, 92071
GEO:32.8596724;-117.0025746
X-APPLE-STRUCTURED-LOCATION;VALUE=URI;X-ADDRESS=Guardian Angels Church 9310 Dalehurst Road Santee CA 92071;X-APPLE-RADIUS=500;X-TITLE=9310 Dalehurst Road:geo:-117.0025746,32.8596724
END:VEVENT
BEGIN:VEVENT
DTSTART;TZID=America/Los_Angeles:20200620T130000
DTEND;TZID=America/Los_Angeles:20200620T140000
DTSTAMP:20260419T170057
CREATED:20190218T175029Z
LAST-MODIFIED:20190218T175717Z
UID:10000655-1592658000-1592661600@www.kki-sd.org
SUMMARY:Misa Kudus
DESCRIPTION:
URL:https://www.kki-sd.org/event/misa-kudus-bulanan/2020-06-20/
LOCATION:Guardian Angels Church\, 9310 Dalehurst Road\, Santee\, CA\, 92071
GEO:32.8596724;-117.0025746
X-APPLE-STRUCTURED-LOCATION;VALUE=URI;X-ADDRESS=Guardian Angels Church 9310 Dalehurst Road Santee CA 92071;X-APPLE-RADIUS=500;X-TITLE=9310 Dalehurst Road:geo:-117.0025746,32.8596724
END:VEVENT
BEGIN:VEVENT
DTSTART;TZID=America/Los_Angeles:20200516T130000
DTEND;TZID=America/Los_Angeles:20200516T140000
DTSTAMP:20260419T170057
CREATED:20190218T175029Z
LAST-MODIFIED:20190218T175717Z
UID:10000654-1589634000-1589637600@www.kki-sd.org
SUMMARY:Misa Kudus
DESCRIPTION:
URL:https://www.kki-sd.org/event/misa-kudus-bulanan/2020-05-16/
LOCATION:Guardian Angels Church\, 9310 Dalehurst Road\, Santee\, CA\, 92071
GEO:32.8596724;-117.0025746
X-APPLE-STRUCTURED-LOCATION;VALUE=URI;X-ADDRESS=Guardian Angels Church 9310 Dalehurst Road Santee CA 92071;X-APPLE-RADIUS=500;X-TITLE=9310 Dalehurst Road:geo:-117.0025746,32.8596724
END:VEVENT
BEGIN:VEVENT
DTSTART;TZID=America/Los_Angeles:20200418T130000
DTEND;TZID=America/Los_Angeles:20200418T140000
DTSTAMP:20260419T170057
CREATED:20190218T175029Z
LAST-MODIFIED:20190218T175717Z
UID:10000653-1587214800-1587218400@www.kki-sd.org
SUMMARY:Misa Kudus
DESCRIPTION:
URL:https://www.kki-sd.org/event/misa-kudus-bulanan/2020-04-18/
LOCATION:Guardian Angels Church\, 9310 Dalehurst Road\, Santee\, CA\, 92071
GEO:32.8596724;-117.0025746
X-APPLE-STRUCTURED-LOCATION;VALUE=URI;X-ADDRESS=Guardian Angels Church 9310 Dalehurst Road Santee CA 92071;X-APPLE-RADIUS=500;X-TITLE=9310 Dalehurst Road:geo:-117.0025746,32.8596724
END:VEVENT
BEGIN:VEVENT
DTSTART;TZID=America/Los_Angeles:20200321T130000
DTEND;TZID=America/Los_Angeles:20200321T140000
DTSTAMP:20260419T170057
CREATED:20190218T175029Z
LAST-MODIFIED:20190218T175717Z
UID:10000652-1584795600-1584799200@www.kki-sd.org
SUMMARY:Misa Kudus
DESCRIPTION:
URL:https://www.kki-sd.org/event/misa-kudus-bulanan/2020-03-21/
LOCATION:Guardian Angels Church\, 9310 Dalehurst Road\, Santee\, CA\, 92071
GEO:32.8596724;-117.0025746
X-APPLE-STRUCTURED-LOCATION;VALUE=URI;X-ADDRESS=Guardian Angels Church 9310 Dalehurst Road Santee CA 92071;X-APPLE-RADIUS=500;X-TITLE=9310 Dalehurst Road:geo:-117.0025746,32.8596724
END:VEVENT
BEGIN:VEVENT
DTSTART;TZID=America/Los_Angeles:20200215T130000
DTEND;TZID=America/Los_Angeles:20200215T140000
DTSTAMP:20260419T170057
CREATED:20190218T175029Z
LAST-MODIFIED:20190218T175717Z
UID:10000651-1581771600-1581775200@www.kki-sd.org
SUMMARY:Misa Kudus
DESCRIPTION:
URL:https://www.kki-sd.org/event/misa-kudus-bulanan/2020-02-15/
LOCATION:Guardian Angels Church\, 9310 Dalehurst Road\, Santee\, CA\, 92071
GEO:32.8596724;-117.0025746
X-APPLE-STRUCTURED-LOCATION;VALUE=URI;X-ADDRESS=Guardian Angels Church 9310 Dalehurst Road Santee CA 92071;X-APPLE-RADIUS=500;X-TITLE=9310 Dalehurst Road:geo:-117.0025746,32.8596724
END:VEVENT
BEGIN:VEVENT
DTSTART;TZID=America/Los_Angeles:20200118T130000
DTEND;TZID=America/Los_Angeles:20200118T140000
DTSTAMP:20260419T170057
CREATED:20190218T175029Z
LAST-MODIFIED:20190218T175717Z
UID:10000650-1579352400-1579356000@www.kki-sd.org
SUMMARY:Misa Kudus
DESCRIPTION:
URL:https://www.kki-sd.org/event/misa-kudus-bulanan/2020-01-18/
LOCATION:Guardian Angels Church\, 9310 Dalehurst Road\, Santee\, CA\, 92071
GEO:32.8596724;-117.0025746
X-APPLE-STRUCTURED-LOCATION;VALUE=URI;X-ADDRESS=Guardian Angels Church 9310 Dalehurst Road Santee CA 92071;X-APPLE-RADIUS=500;X-TITLE=9310 Dalehurst Road:geo:-117.0025746,32.8596724
END:VEVENT
END:VCALENDAR