BEGIN:VCALENDAR
VERSION:2.0
PRODID:-//Keluarga Katolik Indonesia - San Diego - ECPv6.15.20//NONSGML v1.0//EN
CALSCALE:GREGORIAN
METHOD:PUBLISH
X-ORIGINAL-URL:https://www.kki-sd.org
X-WR-CALDESC:Events for Keluarga Katolik Indonesia - San Diego
REFRESH-INTERVAL;VALUE=DURATION:PT1H
X-Robots-Tag:noindex
X-PUBLISHED-TTL:PT1H
BEGIN:VTIMEZONE
TZID:America/Los_Angeles
BEGIN:DAYLIGHT
TZOFFSETFROM:-0800
TZOFFSETTO:-0700
TZNAME:PDT
DTSTART:20130310T100000
END:DAYLIGHT
BEGIN:STANDARD
TZOFFSETFROM:-0700
TZOFFSETTO:-0800
TZNAME:PST
DTSTART:20131103T090000
END:STANDARD
BEGIN:DAYLIGHT
TZOFFSETFROM:-0800
TZOFFSETTO:-0700
TZNAME:PDT
DTSTART:20140309T100000
END:DAYLIGHT
BEGIN:STANDARD
TZOFFSETFROM:-0700
TZOFFSETTO:-0800
TZNAME:PST
DTSTART:20141102T090000
END:STANDARD
BEGIN:DAYLIGHT
TZOFFSETFROM:-0800
TZOFFSETTO:-0700
TZNAME:PDT
DTSTART:20150308T100000
END:DAYLIGHT
BEGIN:STANDARD
TZOFFSETFROM:-0700
TZOFFSETTO:-0800
TZNAME:PST
DTSTART:20151101T090000
END:STANDARD
BEGIN:DAYLIGHT
TZOFFSETFROM:-0800
TZOFFSETTO:-0700
TZNAME:PDT
DTSTART:20160313T100000
END:DAYLIGHT
BEGIN:STANDARD
TZOFFSETFROM:-0700
TZOFFSETTO:-0800
TZNAME:PST
DTSTART:20161106T090000
END:STANDARD
END:VTIMEZONE
BEGIN:VEVENT
DTSTART;TZID=America/Los_Angeles:20141101T110000
DTEND;TZID=America/Los_Angeles:20141101T130000
DTSTAMP:20260419T180144
CREATED:20170311T222722Z
LAST-MODIFIED:20170311T222722Z
UID:10000511-1414839600-1414846800@www.kki-sd.org
SUMMARY:Officers Meeting
DESCRIPTION:
URL:https://www.kki-sd.org/event/officers-meeting-3/
LOCATION:Guardian Angels Church – Social Hall\, 9310 Dalehurst Rd\, Santee\, CA
GEO:32.8596724;-117.0025746
X-APPLE-STRUCTURED-LOCATION;VALUE=URI;X-ADDRESS=Guardian Angels Church – Social Hall 9310 Dalehurst Rd Santee CA;X-APPLE-RADIUS=500;X-TITLE=9310 Dalehurst Rd:geo:-117.0025746,32.8596724
END:VEVENT
BEGIN:VEVENT
DTSTART;TZID=America/Los_Angeles:20141107T190000
DTEND;TZID=America/Los_Angeles:20141107T213000
DTSTAMP:20260419T180144
CREATED:20170311T222724Z
LAST-MODIFIED:20170311T222724Z
UID:10000512-1415386800-1415395800@www.kki-sd.org
SUMMARY:Doa Rosario
DESCRIPTION:In Memory of Christine Ng
URL:https://www.kki-sd.org/event/doa-rosario-42/
LOCATION:Rumah Riko & Patricia
END:VEVENT
BEGIN:VEVENT
DTSTART;TZID=America/Los_Angeles:20141115T130000
DTEND;TZID=America/Los_Angeles:20141115T160000
DTSTAMP:20260419T180144
CREATED:20170311T222724Z
LAST-MODIFIED:20170311T222724Z
UID:10000513-1416056400-1416067200@www.kki-sd.org
SUMMARY:Misa Kudus
DESCRIPTION:
URL:https://www.kki-sd.org/event/misa-kudus-40/
LOCATION:Guardian Angels Church\, 9310 Dalehurst Road\, Santee\, CA\, 92071
GEO:32.8596724;-117.0025746
X-APPLE-STRUCTURED-LOCATION;VALUE=URI;X-ADDRESS=Guardian Angels Church 9310 Dalehurst Road Santee CA 92071;X-APPLE-RADIUS=500;X-TITLE=9310 Dalehurst Road:geo:-117.0025746,32.8596724
END:VEVENT
BEGIN:VEVENT
DTSTART;TZID=America/Los_Angeles:20141118T190000
DTEND;TZID=America/Los_Angeles:20141118T210000
DTSTAMP:20260419T180144
CREATED:20170311T222724Z
LAST-MODIFIED:20170311T222724Z
UID:10000514-1416337200-1416344400@www.kki-sd.org
SUMMARY:Doa Rosario - 7 hari wafatnya Feli
DESCRIPTION:
URL:https://www.kki-sd.org/event/doa-rosario-7-hari-wafatnya-feli-2/
LOCATION:Rumah Beatrix
END:VEVENT
BEGIN:VEVENT
DTSTART;TZID=America/Los_Angeles:20141121T110000
DTEND;TZID=America/Los_Angeles:20141121T123000
DTSTAMP:20260419T180144
CREATED:20170311T222725Z
LAST-MODIFIED:20170311T222725Z
UID:10000515-1416567600-1416573000@www.kki-sd.org
SUMMARY:Feli's Funeral Mass
DESCRIPTION:
URL:https://www.kki-sd.org/event/felis-funeral-mass-2/
LOCATION:Saint Gregory the Great Church
END:VEVENT
BEGIN:VEVENT
DTSTART;TZID=America/Los_Angeles:20141127T120000
DTEND;TZID=America/Los_Angeles:20141127T160000
DTSTAMP:20260419T180144
CREATED:20170311T222725Z
LAST-MODIFIED:20170311T222725Z
UID:10000516-1417089600-1417104000@www.kki-sd.org
SUMMARY:Thanksgiving Party
DESCRIPTION:Thanksgiving celebration akan diadakan di Cunnane Center.
URL:https://www.kki-sd.org/event/thanksgiving-party-2/
LOCATION:Guardian Angels Church\, 9310 Dalehurst Road\, Santee\, CA\, 92071
GEO:32.8596724;-117.0025746
X-APPLE-STRUCTURED-LOCATION;VALUE=URI;X-ADDRESS=Guardian Angels Church 9310 Dalehurst Road Santee CA 92071;X-APPLE-RADIUS=500;X-TITLE=9310 Dalehurst Road:geo:-117.0025746,32.8596724
END:VEVENT
BEGIN:VEVENT
DTSTART;TZID=America/Los_Angeles:20141206T100000
DTEND;TZID=America/Los_Angeles:20141206T160000
DTSTAMP:20260419T180144
CREATED:20170311T222728Z
LAST-MODIFIED:20170311T222728Z
UID:10000517-1417860000-1417881600@www.kki-sd.org
SUMMARY:Rekoleksi Lanjutan Lima Pilar Kehidupan Kristiani dengan Rm. Galih
DESCRIPTION:
URL:https://www.kki-sd.org/event/rekoleksi-lanjutan-lima-pilar-kehidupan-kristiani-dengan-rm-galih-2/
LOCATION:Guardian Angels Church\, 9310 Dalehurst Road\, Santee\, CA\, 92071
GEO:32.8596724;-117.0025746
X-APPLE-STRUCTURED-LOCATION;VALUE=URI;X-ADDRESS=Guardian Angels Church 9310 Dalehurst Road Santee CA 92071;X-APPLE-RADIUS=500;X-TITLE=9310 Dalehurst Road:geo:-117.0025746,32.8596724
END:VEVENT
BEGIN:VEVENT
DTSTART;TZID=America/Los_Angeles:20141213T180000
DTEND;TZID=America/Los_Angeles:20141213T210000
DTSTAMP:20260419T180144
CREATED:20170311T222728Z
LAST-MODIFIED:20170311T222728Z
UID:10000518-1418493600-1418504400@www.kki-sd.org
SUMMARY:Doa Rosario
DESCRIPTION:Rosario bulan December bersamaan dengan peringatan ulang tahun tante Ida (ibunya Sinta) yang ke 80.
URL:https://www.kki-sd.org/event/doa-rosario-43/
LOCATION:Rumah Alex & Sinta
END:VEVENT
BEGIN:VEVENT
DTSTART;TZID=America/Los_Angeles:20141220T100000
DTEND;TZID=America/Los_Angeles:20141220T110000
DTSTAMP:20260419T180144
CREATED:20170311T222729Z
LAST-MODIFIED:20170311T222729Z
UID:10000519-1419069600-1419073200@www.kki-sd.org
SUMMARY:Christmas Caroling
DESCRIPTION:Christmas caroling di kediaman Ci Nyuk di Guadalupe Plaza.
URL:https://www.kki-sd.org/event/christmas-caroling-2/
LOCATION:Guadalupe Plaza\,  4142 42nd St\, San Diego\, CA\, 92105
GEO:32.7526401;-117.1047566
X-APPLE-STRUCTURED-LOCATION;VALUE=URI;X-ADDRESS=Guadalupe Plaza  4142 42nd St San Diego CA 92105;X-APPLE-RADIUS=500;X-TITLE=4142 42nd St:geo:-117.1047566,32.7526401
END:VEVENT
BEGIN:VEVENT
DTSTART;TZID=America/Los_Angeles:20141221T180000
DTEND;TZID=America/Los_Angeles:20141221T210000
DTSTAMP:20260419T180144
CREATED:20170311T222729Z
LAST-MODIFIED:20170311T222729Z
UID:10000520-1419184800-1419195600@www.kki-sd.org
SUMMARY:Doa Rosario
DESCRIPTION:Rosario dalam rangka memperingati 40 hari meninggalnya rekan kita Felicitas Ratna Kantawiria.
URL:https://www.kki-sd.org/event/doa-rosario-44/
LOCATION:Rumah Beatrix
END:VEVENT
BEGIN:VEVENT
DTSTART;TZID=America/Los_Angeles:20141225T130000
DTEND;TZID=America/Los_Angeles:20141225T140000
DTSTAMP:20260419T180144
CREATED:20170311T222729Z
LAST-MODIFIED:20170311T222729Z
UID:10000521-1419512400-1419516000@www.kki-sd.org
SUMMARY:Misa Kudus
DESCRIPTION:
URL:https://www.kki-sd.org/event/misa-kudus-41/
LOCATION:Guardian Angels Church\, 9310 Dalehurst Road\, Santee\, CA\, 92071
GEO:32.8596724;-117.0025746
X-APPLE-STRUCTURED-LOCATION;VALUE=URI;X-ADDRESS=Guardian Angels Church 9310 Dalehurst Road Santee CA 92071;X-APPLE-RADIUS=500;X-TITLE=9310 Dalehurst Road:geo:-117.0025746,32.8596724
END:VEVENT
BEGIN:VEVENT
DTSTART;TZID=America/Los_Angeles:20150111T170000
DTEND;TZID=America/Los_Angeles:20150111T210000
DTSTAMP:20260419T180144
CREATED:20170311T222732Z
LAST-MODIFIED:20170311T222732Z
UID:10000522-1420995600-1421010000@www.kki-sd.org
SUMMARY:Doa Rosario
DESCRIPTION:Doa Rosario dan pemberkatan kediaman Jilly yang baru akan dilakukan oleh Romo Ray.
URL:https://www.kki-sd.org/event/doa-rosario-45/
LOCATION:Rumah Jilly
END:VEVENT
BEGIN:VEVENT
DTSTART;TZID=America/Los_Angeles:20150117T130000
DTEND;TZID=America/Los_Angeles:20150117T160000
DTSTAMP:20260419T180144
CREATED:20170311T222732Z
LAST-MODIFIED:20170311T222732Z
UID:10000523-1421499600-1421510400@www.kki-sd.org
SUMMARY:Misa Kudus
DESCRIPTION:Misa Kudus perdana di tahun 2015\, bersamaan dengan pelantikan pengurus KKI-SD tahun 2015 – 2016\, dilanjutkan dengan makan bersama dan perayaan ulang tahun Romo Ray. Misa dibawakan oleh Father Kevin Casey\, SJ
URL:https://www.kki-sd.org/event/misa-kudus-42/
LOCATION:CA
END:VEVENT
BEGIN:VEVENT
DTSTART;TZID=America/Los_Angeles:20150123T183000
DTEND;TZID=America/Los_Angeles:20150123T213000
DTSTAMP:20260419T180144
CREATED:20170311T222733Z
LAST-MODIFIED:20170311T222733Z
UID:10000524-1422037800-1422048600@www.kki-sd.org
SUMMARY:Youth Group gathering
DESCRIPTION:Mira Mesa area. New program: Youth Gathering\, please call for info: Alicia (651) 492-8932 orEldy (760) 695-2616
URL:https://www.kki-sd.org/event/youth-group-gathering-2/
LOCATION:CA
END:VEVENT
BEGIN:VEVENT
DTSTART;TZID=America/Los_Angeles:20150130T183000
DTEND;TZID=America/Los_Angeles:20150130T210000
DTSTAMP:20260419T180144
CREATED:20170311T222733Z
LAST-MODIFIED:20170311T222733Z
UID:10000526-1422642600-1422651600@www.kki-sd.org
SUMMARY:Sel Group\, Pasutri dan Single Parents
DESCRIPTION:Acara perdana untuk sel group pasutri dan single parents.
URL:https://www.kki-sd.org/event/sel-group-pasutri-dan-single-parents-2/
LOCATION:Rumah Rosa & Henry
END:VEVENT
BEGIN:VEVENT
DTSTART;TZID=America/Los_Angeles:20150207T163000
DTEND;TZID=America/Los_Angeles:20150207T183000
DTSTAMP:20260419T180144
CREATED:20170311T222733Z
LAST-MODIFIED:20170311T222733Z
UID:10000528-1423326600-1423333800@www.kki-sd.org
SUMMARY:Bowling
DESCRIPTION:Cost: $ 5.00 / game with $ 4.00 untuk rental sepatu (silahkan bawa sepatu bowling anda)\, all are welcome.
URL:https://www.kki-sd.org/event/bowling-2/
LOCATION:CA
END:VEVENT
BEGIN:VEVENT
DTSTART;VALUE=DATE:20150218
DTEND;VALUE=DATE:20150219
DTSTAMP:20260419T180144
CREATED:20170311T222737Z
LAST-MODIFIED:20170311T222737Z
UID:10000530-1424217600-1424303999@www.kki-sd.org
SUMMARY:Ash Wednesday
DESCRIPTION:
URL:https://www.kki-sd.org/event/ash-wednesday-4/
LOCATION:CA
END:VEVENT
BEGIN:VEVENT
DTSTART;TZID=America/Los_Angeles:20150219T063000
DTEND;TZID=America/Los_Angeles:20150219T093000
DTSTAMP:20260419T180144
CREATED:20170311T222737Z
LAST-MODIFIED:20170311T222737Z
UID:10000532-1424327400-1424338200@www.kki-sd.org
SUMMARY:Doa Rosario
DESCRIPTION:Doa Rosario dalam rangka memperingati 100 hari meninggalnya saudara kita Feli.
URL:https://www.kki-sd.org/event/doa-rosario-46/
LOCATION:Rumah Ling & Rose
END:VEVENT
BEGIN:VEVENT
DTSTART;TZID=America/Los_Angeles:20150221T130000
DTEND;TZID=America/Los_Angeles:20150221T160000
DTSTAMP:20260419T180144
CREATED:20170311T222738Z
LAST-MODIFIED:20170311T222738Z
UID:10000534-1424523600-1424534400@www.kki-sd.org
SUMMARY:Misa Kudus
DESCRIPTION:Misa Kudus.
URL:https://www.kki-sd.org/event/misa-kudus-43/
LOCATION:Guardian Angels Church\, 9310 Dalehurst Road\, Santee\, CA\, 92071
GEO:32.8596724;-117.0025746
X-APPLE-STRUCTURED-LOCATION;VALUE=URI;X-ADDRESS=Guardian Angels Church 9310 Dalehurst Road Santee CA 92071;X-APPLE-RADIUS=500;X-TITLE=9310 Dalehurst Road:geo:-117.0025746,32.8596724
END:VEVENT
BEGIN:VEVENT
DTSTART;TZID=America/Los_Angeles:20150321T130000
DTEND;TZID=America/Los_Angeles:20150321T160000
DTSTAMP:20260419T180144
CREATED:20170311T222738Z
LAST-MODIFIED:20170311T222738Z
UID:10000470-1426942800-1426953600@www.kki-sd.org
SUMMARY:Misa Kudus
DESCRIPTION:Presider: Romo Ray. Mohon untuk tidak datang terlambat.
URL:https://www.kki-sd.org/event/misa-kudus-44/
LOCATION:Guardian Angels Church\, 9310 Dalehurst Road\, Santee\, CA\, 92071
GEO:32.8596724;-117.0025746
X-APPLE-STRUCTURED-LOCATION;VALUE=URI;X-ADDRESS=Guardian Angels Church 9310 Dalehurst Road Santee CA 92071;X-APPLE-RADIUS=500;X-TITLE=9310 Dalehurst Road:geo:-117.0025746,32.8596724
END:VEVENT
BEGIN:VEVENT
DTSTART;TZID=America/Los_Angeles:20150327T183000
DTEND;TZID=America/Los_Angeles:20150327T210000
DTSTAMP:20260419T180144
CREATED:20170311T222738Z
LAST-MODIFIED:20170311T222738Z
UID:10000472-1427481000-1427490000@www.kki-sd.org
SUMMARY:Sharing Iman dan Firman
DESCRIPTION:Rekan rekan pasutri dan single parents ditunggu kedatangannya pada acara Sharing Iman dan Firman.
URL:https://www.kki-sd.org/event/sharing-iman-dan-firman-2/
LOCATION:Rumah Ling & Rose
END:VEVENT
BEGIN:VEVENT
DTSTART;TZID=America/Los_Angeles:20150418T130000
DTEND;TZID=America/Los_Angeles:20150418T160000
DTSTAMP:20260419T180144
CREATED:20170311T222742Z
LAST-MODIFIED:20170311T222742Z
UID:10000475-1429362000-1429372800@www.kki-sd.org
SUMMARY:Misa Kudus
DESCRIPTION:
URL:https://www.kki-sd.org/event/misa-kudus-45/
LOCATION:CA
END:VEVENT
BEGIN:VEVENT
DTSTART;TZID=America/Los_Angeles:20150425T150000
DTEND;TZID=America/Los_Angeles:20150425T180000
DTSTAMP:20260419T180144
CREATED:20170311T222743Z
LAST-MODIFIED:20170311T222743Z
UID:10000476-1429974000-1429984800@www.kki-sd.org
SUMMARY:Food Fair
DESCRIPTION:Indonesian Food Fair\, keterangan selengkapnya\, dan address\, silahkan menghubungi kkisd.info@yahoo.com
URL:https://www.kki-sd.org/event/food-fair-2/
LOCATION:Rumah Jilly
END:VEVENT
BEGIN:VEVENT
DTSTART;TZID=America/Los_Angeles:20150508T190000
DTEND;TZID=America/Los_Angeles:20150508T210000
DTSTAMP:20260419T180144
CREATED:20170311T222743Z
LAST-MODIFIED:20170311T222743Z
UID:10000478-1431111600-1431118800@www.kki-sd.org
SUMMARY:Doa Rosario
DESCRIPTION:Doa Rosario dan makan malam bersama.
URL:https://www.kki-sd.org/event/doa-rosario-47/
LOCATION:Rumah Agus & Tanti
END:VEVENT
BEGIN:VEVENT
DTSTART;TZID=America/Los_Angeles:20150516T130000
DTEND;TZID=America/Los_Angeles:20150516T160000
DTSTAMP:20260419T180144
CREATED:20170311T222743Z
LAST-MODIFIED:20170311T222743Z
UID:10000480-1431781200-1431792000@www.kki-sd.org
SUMMARY:Misa Kudus
DESCRIPTION:Misa Kudus dalam bahasa Indonesia untuk bulan Mei.Presider: Romo Ray.
URL:https://www.kki-sd.org/event/misa-kudus-46/
LOCATION:Guardian Angels Church\, 9310 Dalehurst Road\, Santee\, CA\, 92071
GEO:32.8596724;-117.0025746
X-APPLE-STRUCTURED-LOCATION;VALUE=URI;X-ADDRESS=Guardian Angels Church 9310 Dalehurst Road Santee CA 92071;X-APPLE-RADIUS=500;X-TITLE=9310 Dalehurst Road:geo:-117.0025746,32.8596724
END:VEVENT
BEGIN:VEVENT
DTSTART;TZID=America/Los_Angeles:20150607T090000
DTEND;TZID=America/Los_Angeles:20150607T110000
DTSTAMP:20260419T180144
CREATED:20170311T222743Z
LAST-MODIFIED:20170311T222743Z
UID:10000482-1433667600-1433674800@www.kki-sd.org
SUMMARY:Donut & Breakfast Fundraising
DESCRIPTION:Dalam rangka fundraising untuk KKI dan gereja\, KKI menjual makanan pagi setelah misa kudus pertama dan kedua.
URL:https://www.kki-sd.org/event/donut-breakfast-fundraising-3/
LOCATION:Guardian Angels Church\, 9310 Dalehurst Road\, Santee\, CA\, 92071
GEO:32.8596724;-117.0025746
X-APPLE-STRUCTURED-LOCATION;VALUE=URI;X-ADDRESS=Guardian Angels Church 9310 Dalehurst Road Santee CA 92071;X-APPLE-RADIUS=500;X-TITLE=9310 Dalehurst Road:geo:-117.0025746,32.8596724
END:VEVENT
BEGIN:VEVENT
DTSTART;TZID=America/Los_Angeles:20150612T190000
DTEND;TZID=America/Los_Angeles:20150612T200000
DTSTAMP:20260419T180144
CREATED:20170311T222747Z
LAST-MODIFIED:20170311T222747Z
UID:10000484-1434135600-1434139200@www.kki-sd.org
SUMMARY:Doa Rosario
DESCRIPTION:Doa Rosario dan makan malam bersama
URL:https://www.kki-sd.org/event/doa-rosario-48/
LOCATION:Rumah Ignas & Ulen
END:VEVENT
BEGIN:VEVENT
DTSTART;TZID=America/Los_Angeles:20150620T130000
DTEND;TZID=America/Los_Angeles:20150620T160000
DTSTAMP:20260419T180144
CREATED:20170311T222747Z
LAST-MODIFIED:20170311T222747Z
UID:10000486-1434805200-1434816000@www.kki-sd.org
SUMMARY:Misa Kudus
DESCRIPTION:Misa Kudus dan makan siang bersama.Presider: Romo Ray.
URL:https://www.kki-sd.org/event/misa-kudus-47/
LOCATION:Guardian Angels Church\, 9310 Dalehurst Road\, Santee\, CA\, 92071
GEO:32.8596724;-117.0025746
X-APPLE-STRUCTURED-LOCATION;VALUE=URI;X-ADDRESS=Guardian Angels Church 9310 Dalehurst Road Santee CA 92071;X-APPLE-RADIUS=500;X-TITLE=9310 Dalehurst Road:geo:-117.0025746,32.8596724
END:VEVENT
BEGIN:VEVENT
DTSTART;TZID=America/Los_Angeles:20150710T190000
DTEND;TZID=America/Los_Angeles:20150710T210000
DTSTAMP:20260419T180144
CREATED:20170311T222747Z
LAST-MODIFIED:20170311T222747Z
UID:10000488-1436554800-1436562000@www.kki-sd.org
SUMMARY:Doa Rosario
DESCRIPTION:Doa Rosario dan makan malam bersama.
URL:https://www.kki-sd.org/event/doa-rosario-49/
LOCATION:Rumah Ryan
END:VEVENT
BEGIN:VEVENT
DTSTART;TZID=America/Los_Angeles:20150718T130000
DTEND;TZID=America/Los_Angeles:20150718T150000
DTSTAMP:20260419T180144
CREATED:20170311T222747Z
LAST-MODIFIED:20170311T222747Z
UID:10000536-1437224400-1437231600@www.kki-sd.org
SUMMARY:Misa Kudus
DESCRIPTION:Misa Kudus bulan Agustus.Presider: Romo Ray.
URL:https://www.kki-sd.org/event/misa-kudus-48/
LOCATION:Guardian Angels Church\, 9310 Dalehurst Road\, Santee\, CA\, 92071
GEO:32.8596724;-117.0025746
X-APPLE-STRUCTURED-LOCATION;VALUE=URI;X-ADDRESS=Guardian Angels Church 9310 Dalehurst Road Santee CA 92071;X-APPLE-RADIUS=500;X-TITLE=9310 Dalehurst Road:geo:-117.0025746,32.8596724
END:VEVENT
END:VCALENDAR