BEGIN:VCALENDAR
VERSION:2.0
PRODID:-//Keluarga Katolik Indonesia - San Diego - ECPv6.15.20//NONSGML v1.0//EN
CALSCALE:GREGORIAN
METHOD:PUBLISH
X-WR-CALNAME:Keluarga Katolik Indonesia - San Diego
X-ORIGINAL-URL:https://www.kki-sd.org
X-WR-CALDESC:Events for Keluarga Katolik Indonesia - San Diego
REFRESH-INTERVAL;VALUE=DURATION:PT1H
X-Robots-Tag:noindex
X-PUBLISHED-TTL:PT1H
BEGIN:VTIMEZONE
TZID:America/Los_Angeles
BEGIN:DAYLIGHT
TZOFFSETFROM:-0800
TZOFFSETTO:-0700
TZNAME:PDT
DTSTART:20130310T100000
END:DAYLIGHT
BEGIN:STANDARD
TZOFFSETFROM:-0700
TZOFFSETTO:-0800
TZNAME:PST
DTSTART:20131103T090000
END:STANDARD
BEGIN:DAYLIGHT
TZOFFSETFROM:-0800
TZOFFSETTO:-0700
TZNAME:PDT
DTSTART:20140309T100000
END:DAYLIGHT
BEGIN:STANDARD
TZOFFSETFROM:-0700
TZOFFSETTO:-0800
TZNAME:PST
DTSTART:20141102T090000
END:STANDARD
BEGIN:DAYLIGHT
TZOFFSETFROM:-0800
TZOFFSETTO:-0700
TZNAME:PDT
DTSTART:20150308T100000
END:DAYLIGHT
BEGIN:STANDARD
TZOFFSETFROM:-0700
TZOFFSETTO:-0800
TZNAME:PST
DTSTART:20151101T090000
END:STANDARD
END:VTIMEZONE
BEGIN:VEVENT
DTSTART;VALUE=DATE:20140418
DTEND;VALUE=DATE:20140419
DTSTAMP:20260419T210128
CREATED:20170311T222702Z
LAST-MODIFIED:20170311T222702Z
UID:10000474-1397779200-1397865599@www.kki-sd.org
SUMMARY:Good Friday
DESCRIPTION:
URL:https://www.kki-sd.org/event/good-friday-3/
LOCATION:CA
END:VEVENT
BEGIN:VEVENT
DTSTART;VALUE=DATE:20140419
DTEND;VALUE=DATE:20140420
DTSTAMP:20260419T210128
CREATED:20170311T222633Z
LAST-MODIFIED:20170311T222633Z
UID:10000437-1397865600-1397951999@www.kki-sd.org
SUMMARY:Holy Saturday (Tidak ada misa KKISD)
DESCRIPTION:
URL:https://www.kki-sd.org/event/holy-saturday-tidak-ada-misa-kkisd-2/
LOCATION:CA
END:VEVENT
BEGIN:VEVENT
DTSTART;TZID=America/Los_Angeles:20140420T120000
DTEND;TZID=America/Los_Angeles:20140420T160000
DTSTAMP:20260419T210128
CREATED:20170311T222702Z
LAST-MODIFIED:20170311T222702Z
UID:10000477-1397995200-1398009600@www.kki-sd.org
SUMMARY:Easter Sunday (Picnic)
DESCRIPTION:Misa Kudus pada hari minggu ketiga bulan ini ditiadakan\, sebagai gantinya akan diadakan Easter picnic pada hari minggu keesokan harinya. Harap membawa kursi picnic\, selimut untuk keperluan masing masing. Makan siang akan disediakan\,dan kami menyediakan meja potluck untuk anda semua yang ingin membawa makanan favorit untuk di share dengan teman teman.
URL:https://www.kki-sd.org/event/easter-sunday-picnic-2/
LOCATION:CA
END:VEVENT
BEGIN:VEVENT
DTSTART;TZID=America/Los_Angeles:20140425T190000
DTEND;TZID=America/Los_Angeles:20140425T220000
DTSTAMP:20260419T210128
CREATED:20170311T222702Z
LAST-MODIFIED:20170311T222702Z
UID:10000479-1398452400-1398463200@www.kki-sd.org
SUMMARY:Bible Sharing
DESCRIPTION:Bahan: Injil Markus Bab 7\, Harap membawa kitab suci masing masing.
URL:https://www.kki-sd.org/event/bible-sharing-8/
LOCATION:Rumah Alex & Sinta
END:VEVENT
BEGIN:VEVENT
DTSTART;TZID=America/Los_Angeles:20140503T090000
DTEND;TZID=America/Los_Angeles:20140503T120000
DTSTAMP:20260419T210128
CREATED:20170311T222702Z
LAST-MODIFIED:20170311T222702Z
UID:10000481-1399107600-1399118400@www.kki-sd.org
SUMMARY:Grass Volleyball
DESCRIPTION:
URL:https://www.kki-sd.org/event/grass-volleyball-2/
LOCATION:6th Ave & Spruce St\, Balboa Park
END:VEVENT
BEGIN:VEVENT
DTSTART;TZID=America/Los_Angeles:20140509T190000
DTEND;TZID=America/Los_Angeles:20140509T210000
DTSTAMP:20260419T210128
CREATED:20170311T222702Z
LAST-MODIFIED:20170311T222702Z
UID:10000483-1399662000-1399669200@www.kki-sd.org
SUMMARY:Doa Rosario
DESCRIPTION:Doa Rosario dalam rangka memperingati 40 hari meninggalnya Tante Nieke Karim.
URL:https://www.kki-sd.org/event/doa-rosario-38/
LOCATION:Rumah Ling & Rose
END:VEVENT
BEGIN:VEVENT
DTSTART;TZID=America/Los_Angeles:20140516T190000
DTEND;TZID=America/Los_Angeles:20140516T213000
DTSTAMP:20260419T210128
CREATED:20170311T222707Z
LAST-MODIFIED:20170311T222707Z
UID:10000485-1400266800-1400275800@www.kki-sd.org
SUMMARY:Bible Sharing
DESCRIPTION:Bible Sharing dengan Romo tamu dari Louisiana (Rm. Ben Wego)
URL:https://www.kki-sd.org/event/bible-sharing-9/
LOCATION:Rumah Leo & Cicil
END:VEVENT
BEGIN:VEVENT
DTSTART;TZID=America/Los_Angeles:20140517T130000
DTEND;TZID=America/Los_Angeles:20140517T160000
DTSTAMP:20260419T210128
CREATED:20170311T222707Z
LAST-MODIFIED:20170311T222707Z
UID:10000487-1400331600-1400342400@www.kki-sd.org
SUMMARY:Misa Kudus
DESCRIPTION:Celebrant: Rm. Ben Wego dari LouisianaKKISD Children group akan membawakan acara misa (Altar Serers\, Lector\, Koor\, Persembahan)
URL:https://www.kki-sd.org/event/misa-kudus-34/
LOCATION:Guardian Angels Church\, 9310 Dalehurst Road\, Santee\, CA\, 92071
GEO:32.8596724;-117.0025746
X-APPLE-STRUCTURED-LOCATION;VALUE=URI;X-ADDRESS=Guardian Angels Church 9310 Dalehurst Road Santee CA 92071;X-APPLE-RADIUS=500;X-TITLE=9310 Dalehurst Road:geo:-117.0025746,32.8596724
END:VEVENT
BEGIN:VEVENT
DTSTART;TZID=America/Los_Angeles:20140613T190000
DTEND;TZID=America/Los_Angeles:20140613T213000
DTSTAMP:20260419T210128
CREATED:20170311T222707Z
LAST-MODIFIED:20170311T222707Z
UID:10000489-1402686000-1402695000@www.kki-sd.org
SUMMARY:Doa Rosario
DESCRIPTION:Doa Rosario dan makan malam bersama.
URL:https://www.kki-sd.org/event/doa-rosario-39/
LOCATION:Rumah Leo & Cicil
END:VEVENT
BEGIN:VEVENT
DTSTART;TZID=America/Los_Angeles:20140621T130000
DTEND;TZID=America/Los_Angeles:20140621T160000
DTSTAMP:20260419T210128
CREATED:20170311T222707Z
LAST-MODIFIED:20170311T222707Z
UID:10000490-1403355600-1403366400@www.kki-sd.org
SUMMARY:Misa Kudus
DESCRIPTION:Presider: Romo Ray
URL:https://www.kki-sd.org/event/misa-kudus-35/
LOCATION:Guardian Angels Church\, 9310 Dalehurst Road\, Santee\, CA\, 92071
GEO:32.8596724;-117.0025746
X-APPLE-STRUCTURED-LOCATION;VALUE=URI;X-ADDRESS=Guardian Angels Church 9310 Dalehurst Road Santee CA 92071;X-APPLE-RADIUS=500;X-TITLE=9310 Dalehurst Road:geo:-117.0025746,32.8596724
END:VEVENT
BEGIN:VEVENT
DTSTART;TZID=America/Los_Angeles:20140627T190000
DTEND;TZID=America/Los_Angeles:20140627T213000
DTSTAMP:20260419T210128
CREATED:20170311T222707Z
LAST-MODIFIED:20170311T222707Z
UID:10000491-1403895600-1403904600@www.kki-sd.org
SUMMARY:Bible Sharing
DESCRIPTION:Topik: Injil markus Bab 8\, dipimpin oleh Romo Ray. Harap membawa kitab suci masing masing.
URL:https://www.kki-sd.org/event/bible-sharing-10/
LOCATION:Rumah Ling & Rose
END:VEVENT
BEGIN:VEVENT
DTSTART;TZID=America/Los_Angeles:20140628T120000
DTEND;TZID=America/Los_Angeles:20140628T140000
DTSTAMP:20260419T210128
CREATED:20170311T222711Z
LAST-MODIFIED:20170311T222711Z
UID:10000492-1403956800-1403964000@www.kki-sd.org
SUMMARY:KKISD Officers meeting
DESCRIPTION:
URL:https://www.kki-sd.org/event/kkisd-officers-meeting-2/
LOCATION:Guardian Angels Church – Social Hall\, 9310 Dalehurst Rd\, Santee\, CA
GEO:32.8596724;-117.0025746
X-APPLE-STRUCTURED-LOCATION;VALUE=URI;X-ADDRESS=Guardian Angels Church – Social Hall 9310 Dalehurst Rd Santee CA;X-APPLE-RADIUS=500;X-TITLE=9310 Dalehurst Rd:geo:-117.0025746,32.8596724
END:VEVENT
BEGIN:VEVENT
DTSTART;TZID=America/Los_Angeles:20140629T080000
DTEND;TZID=America/Los_Angeles:20140629T113000
DTSTAMP:20260419T210128
CREATED:20170311T222711Z
LAST-MODIFIED:20170311T222711Z
UID:10000493-1404028800-1404041400@www.kki-sd.org
SUMMARY:Donuts & Coffee Breakfast at GAC
DESCRIPTION:Fundraising Event: Donuts & Coffee Breakfast at GAC
URL:https://www.kki-sd.org/event/donuts-coffee-breakfast-at-gac-4/
LOCATION:Guardian Angels Church\, 9310 Dalehurst Road\, Santee\, CA\, 92071
GEO:32.8596724;-117.0025746
X-APPLE-STRUCTURED-LOCATION;VALUE=URI;X-ADDRESS=Guardian Angels Church 9310 Dalehurst Road Santee CA 92071;X-APPLE-RADIUS=500;X-TITLE=9310 Dalehurst Road:geo:-117.0025746,32.8596724
END:VEVENT
BEGIN:VEVENT
DTSTART;TZID=America/Los_Angeles:20140706T090000
DTEND;TZID=America/Los_Angeles:20140706T120000
DTSTAMP:20260419T210128
CREATED:20170311T222711Z
LAST-MODIFIED:20170311T222711Z
UID:10000494-1404637200-1404648000@www.kki-sd.org
SUMMARY:Donuts & Coffee Breakfast at GAC
DESCRIPTION:Fundraising Event: Donuts & Coffee Breakfast at GAC.
URL:https://www.kki-sd.org/event/donuts-coffee-breakfast-at-gac-5/
LOCATION:Guardian Angels Church\, 9310 Dalehurst Road\, Santee\, CA\, 92071
GEO:32.8596724;-117.0025746
X-APPLE-STRUCTURED-LOCATION;VALUE=URI;X-ADDRESS=Guardian Angels Church 9310 Dalehurst Road Santee CA 92071;X-APPLE-RADIUS=500;X-TITLE=9310 Dalehurst Road:geo:-117.0025746,32.8596724
END:VEVENT
BEGIN:VEVENT
DTSTART;TZID=America/Los_Angeles:20140711T190000
DTEND;TZID=America/Los_Angeles:20140711T210000
DTSTAMP:20260419T210128
CREATED:20170311T222711Z
LAST-MODIFIED:20170311T222711Z
UID:10000495-1405105200-1405112400@www.kki-sd.org
SUMMARY:Doa Rosario
DESCRIPTION:Potluck dan doa Rosario di rumah Feli.
URL:https://www.kki-sd.org/event/doa-rosario-40/
LOCATION:Rumah Feli
END:VEVENT
BEGIN:VEVENT
DTSTART;TZID=America/Los_Angeles:20140712T070000
DTEND;TZID=America/Los_Angeles:20140712T090000
DTSTAMP:20260419T210128
CREATED:20170311T222711Z
LAST-MODIFIED:20170311T222711Z
UID:10000496-1405148400-1405155600@www.kki-sd.org
SUMMARY:Jalan Kaki Bersama
DESCRIPTION:Marilah kita berjalan kaki bersama mengelilingi lake Miramar di daerah Scripps Ranch\, sejauh kira kira 5 miles\, area mendatar\, jalanan aspal\, bisa untuk naik sepeda juga\, baik untuk dewasa dan anak anak. Bagi yang membawa anak anak bisa membawa sisa roti untuk memberi makan bebek dan angsa. Peserta dapat memilih jarak tempuh sesuai kekuatan masing masing\, ada patok tiap 1/4 miles. Contohnya bagi yang ingin berjalan sejauh 1 mile\, dapat berjalan sampai patok 1/2 mile lalu kembali.Pukul 7:00am – 9:00 am
URL:https://www.kki-sd.org/event/jalan-kaki-bersama-2/
LOCATION:Miramar Lake
END:VEVENT
BEGIN:VEVENT
DTSTART;TZID=America/Los_Angeles:20140719T130000
DTEND;TZID=America/Los_Angeles:20140719T160000
DTSTAMP:20260419T210128
CREATED:20170311T222714Z
LAST-MODIFIED:20170311T222714Z
UID:10000497-1405774800-1405785600@www.kki-sd.org
SUMMARY:Misa Kudus
DESCRIPTION:Celebrant: Fr. Bruce
URL:https://www.kki-sd.org/event/misa-kudus-36/
LOCATION:Guardian Angels Church\, 9310 Dalehurst Road\, Santee\, CA\, 92071
GEO:32.8596724;-117.0025746
X-APPLE-STRUCTURED-LOCATION;VALUE=URI;X-ADDRESS=Guardian Angels Church 9310 Dalehurst Road Santee CA 92071;X-APPLE-RADIUS=500;X-TITLE=9310 Dalehurst Road:geo:-117.0025746,32.8596724
END:VEVENT
BEGIN:VEVENT
DTSTART;VALUE=DATE:20140802
DTEND;VALUE=DATE:20140803
DTSTAMP:20260419T210128
CREATED:20170311T222714Z
LAST-MODIFIED:20170311T222714Z
UID:10000498-1406937600-1407023999@www.kki-sd.org
SUMMARY:Faith Building
DESCRIPTION:Thema Faith Building: “Mengapa anda menjadi Katolik?”Dibawakan oleh: Rm. Adrianus Budhi\, M.S.C.
URL:https://www.kki-sd.org/event/faith-building-11/
LOCATION:CA
END:VEVENT
BEGIN:VEVENT
DTSTART;TZID=America/Los_Angeles:20140808T190000
DTEND;TZID=America/Los_Angeles:20140808T210000
DTSTAMP:20260419T210128
CREATED:20170311T222714Z
LAST-MODIFIED:20170311T222714Z
UID:10000499-1407524400-1407531600@www.kki-sd.org
SUMMARY:Doa Divine Mercy
DESCRIPTION:
URL:https://www.kki-sd.org/event/doa-divine-mercy-2/
LOCATION:Rumah Agus & Tanti
END:VEVENT
BEGIN:VEVENT
DTSTART;TZID=America/Los_Angeles:20140816T130000
DTEND;TZID=America/Los_Angeles:20140816T160000
DTSTAMP:20260419T210128
CREATED:20170311T222714Z
LAST-MODIFIED:20170311T222714Z
UID:10000500-1408194000-1408204800@www.kki-sd.org
SUMMARY:Misa Kudus
DESCRIPTION:Dipimpin oleh Romo Ray.Lunch akan diadakan di Cunnane Center\, karena Social Hall sedang direnovasi.
URL:https://www.kki-sd.org/event/misa-kudus-37/
LOCATION:CA
END:VEVENT
BEGIN:VEVENT
DTSTART;TZID=America/Los_Angeles:20140817T100000
DTEND;TZID=America/Los_Angeles:20140817T140000
DTSTAMP:20260419T210128
CREATED:20170311T222715Z
LAST-MODIFIED:20170311T222715Z
UID:10000501-1408269600-1408284000@www.kki-sd.org
SUMMARY:Piknik 17 Agustus
DESCRIPTION:BBQ & potluck\, please bring your favorite meat or veggies. (KKI menyediakan nasi\, ayam goreng\, rujak dan air minum. Acara: FUN games\, volleyball\, sepakbola\, beach access & showers.
URL:https://www.kki-sd.org/event/piknik-17-agustus-2/
LOCATION:De Anza Cove Park\, 3000 N Mission Bay Dr\, San Diego\, CA
GEO:32.7973922;-117.2141197
X-APPLE-STRUCTURED-LOCATION;VALUE=URI;X-ADDRESS=De Anza Cove Park 3000 N Mission Bay Dr San Diego CA;X-APPLE-RADIUS=500;X-TITLE=3000 N Mission Bay Dr:geo:-117.2141197,32.7973922
END:VEVENT
BEGIN:VEVENT
DTSTART;TZID=America/Los_Angeles:20140905T190000
DTEND;TZID=America/Los_Angeles:20140905T210000
DTSTAMP:20260419T210128
CREATED:20170311T222718Z
LAST-MODIFIED:20170311T222718Z
UID:10000502-1409943600-1409950800@www.kki-sd.org
SUMMARY:Doa Rosario
DESCRIPTION:
URL:https://www.kki-sd.org/event/doa-rosario-41/
LOCATION:Rumah Ben & Jeanne
END:VEVENT
BEGIN:VEVENT
DTSTART;TZID=America/Los_Angeles:20140913T190000
DTEND;TZID=America/Los_Angeles:20140913T210000
DTSTAMP:20260419T210129
CREATED:20170311T222718Z
LAST-MODIFIED:20170311T222718Z
UID:10000503-1410634800-1410642000@www.kki-sd.org
SUMMARY:Doa Rosario - 40 hari wafatnya Oma Luna
DESCRIPTION:
URL:https://www.kki-sd.org/event/doa-rosario-40-hari-wafatnya-oma-luna-2/
LOCATION:Rumah Eddy
END:VEVENT
BEGIN:VEVENT
DTSTART;TZID=America/Los_Angeles:20140918T180000
DTEND;TZID=America/Los_Angeles:20140918T210000
DTSTAMP:20260419T210129
CREATED:20170311T222718Z
LAST-MODIFIED:20170311T222718Z
UID:10000504-1411063200-1411074000@www.kki-sd.org
SUMMARY:Faith Building
DESCRIPTION:Pembicara: S. Hanjaya (Surabaya)
URL:https://www.kki-sd.org/event/faith-building-12/
LOCATION:Rumah Larry & Dita
END:VEVENT
BEGIN:VEVENT
DTSTART;VALUE=DATE:20140920
DTEND;VALUE=DATE:20140921
DTSTAMP:20260419T210129
CREATED:20170311T222718Z
LAST-MODIFIED:20170311T222718Z
UID:10000505-1411171200-1411257599@www.kki-sd.org
SUMMARY:Misa Kudus
DESCRIPTION:
URL:https://www.kki-sd.org/event/misa-kudus-38/
LOCATION:CA
END:VEVENT
BEGIN:VEVENT
DTSTART;TZID=America/Los_Angeles:20141005T080000
DTEND;TZID=America/Los_Angeles:20141005T113000
DTSTAMP:20260419T210129
CREATED:20170311T222718Z
LAST-MODIFIED:20170311T222718Z
UID:10000506-1412496000-1412508600@www.kki-sd.org
SUMMARY:Donuts & Coffee Breakfast at GAC
DESCRIPTION:Fundraising Event: Donuts & Coffee Breakfast at GAC
URL:https://www.kki-sd.org/event/donuts-coffee-breakfast-at-gac-6/
LOCATION:Guardian Angels Church\, 9310 Dalehurst Road\, Santee\, CA\, 92071
GEO:32.8596724;-117.0025746
X-APPLE-STRUCTURED-LOCATION;VALUE=URI;X-ADDRESS=Guardian Angels Church 9310 Dalehurst Road Santee CA 92071;X-APPLE-RADIUS=500;X-TITLE=9310 Dalehurst Road:geo:-117.0025746,32.8596724
END:VEVENT
BEGIN:VEVENT
DTSTART;TZID=America/Los_Angeles:20141012T180000
DTEND;TZID=America/Los_Angeles:20141012T210000
DTSTAMP:20260419T210129
CREATED:20170311T222721Z
LAST-MODIFIED:20170311T222721Z
UID:10000507-1413136800-1413147600@www.kki-sd.org
SUMMARY:Doa Rosario - 40 hari wafatnya Om Puja Dharma
DESCRIPTION:
URL:https://www.kki-sd.org/event/doa-rosario-40-hari-wafatnya-om-puja-dharma-2/
LOCATION:Rumah Ignas & Ulen
END:VEVENT
BEGIN:VEVENT
DTSTART;TZID=America/Los_Angeles:20141018T130000
DTEND;TZID=America/Los_Angeles:20141018T160000
DTSTAMP:20260419T210129
CREATED:20170311T222721Z
LAST-MODIFIED:20170311T222721Z
UID:10000508-1413637200-1413648000@www.kki-sd.org
SUMMARY:Misa Kudus
DESCRIPTION:
URL:https://www.kki-sd.org/event/misa-kudus-39/
LOCATION:Guardian Angels Church\, 9310 Dalehurst Road\, Santee\, CA\, 92071
GEO:32.8596724;-117.0025746
X-APPLE-STRUCTURED-LOCATION;VALUE=URI;X-ADDRESS=Guardian Angels Church 9310 Dalehurst Road Santee CA 92071;X-APPLE-RADIUS=500;X-TITLE=9310 Dalehurst Road:geo:-117.0025746,32.8596724
END:VEVENT
BEGIN:VEVENT
DTSTART;TZID=America/Los_Angeles:20141020T180000
DTEND;TZID=America/Los_Angeles:20141020T210000
DTSTAMP:20260419T210129
CREATED:20170311T222721Z
LAST-MODIFIED:20170311T222721Z
UID:10000509-1413828000-1413838800@www.kki-sd.org
SUMMARY:Doa Divine Mercy (7 hari wafatnya Glenn Kandou)
DESCRIPTION:
URL:https://www.kki-sd.org/event/doa-divine-mercy-7-hari-wafatnya-glenn-kandou-2/
LOCATION:Rumah Jilly
END:VEVENT
BEGIN:VEVENT
DTSTART;TZID=America/Los_Angeles:20141025T183000
DTEND;TZID=America/Los_Angeles:20141025T213000
DTSTAMP:20260419T210129
CREATED:20170311T222722Z
LAST-MODIFIED:20170311T222722Z
UID:10000510-1414261800-1414272600@www.kki-sd.org
SUMMARY:PD Mudika KKI-SD
DESCRIPTION:
URL:https://www.kki-sd.org/event/pd-mudika-kki-sd-2/
LOCATION:Rumah Ling & Rose
END:VEVENT
END:VCALENDAR