BEGIN:VCALENDAR
VERSION:2.0
PRODID:-//Keluarga Katolik Indonesia - San Diego - ECPv6.15.20//NONSGML v1.0//EN
CALSCALE:GREGORIAN
METHOD:PUBLISH
X-WR-CALNAME:Keluarga Katolik Indonesia - San Diego
X-ORIGINAL-URL:https://www.kki-sd.org
X-WR-CALDESC:Events for Keluarga Katolik Indonesia - San Diego
REFRESH-INTERVAL;VALUE=DURATION:PT1H
X-Robots-Tag:noindex
X-PUBLISHED-TTL:PT1H
BEGIN:VTIMEZONE
TZID:America/Los_Angeles
BEGIN:DAYLIGHT
TZOFFSETFROM:-0800
TZOFFSETTO:-0700
TZNAME:PDT
DTSTART:20120311T100000
END:DAYLIGHT
BEGIN:STANDARD
TZOFFSETFROM:-0700
TZOFFSETTO:-0800
TZNAME:PST
DTSTART:20121104T090000
END:STANDARD
BEGIN:DAYLIGHT
TZOFFSETFROM:-0800
TZOFFSETTO:-0700
TZNAME:PDT
DTSTART:20130310T100000
END:DAYLIGHT
BEGIN:STANDARD
TZOFFSETFROM:-0700
TZOFFSETTO:-0800
TZNAME:PST
DTSTART:20131103T090000
END:STANDARD
BEGIN:DAYLIGHT
TZOFFSETFROM:-0800
TZOFFSETTO:-0700
TZNAME:PDT
DTSTART:20140309T100000
END:DAYLIGHT
BEGIN:STANDARD
TZOFFSETFROM:-0700
TZOFFSETTO:-0800
TZNAME:PST
DTSTART:20141102T090000
END:STANDARD
BEGIN:DAYLIGHT
TZOFFSETFROM:-0800
TZOFFSETTO:-0700
TZNAME:PDT
DTSTART:20150308T100000
END:DAYLIGHT
BEGIN:STANDARD
TZOFFSETFROM:-0700
TZOFFSETTO:-0800
TZNAME:PST
DTSTART:20151101T090000
END:STANDARD
END:VTIMEZONE
BEGIN:VEVENT
DTSTART;TZID=America/Los_Angeles:20131214T110000
DTEND;TZID=America/Los_Angeles:20131214T140000
DTSTAMP:20260419T180552
CREATED:20170311T222648Z
LAST-MODIFIED:20170311T222648Z
UID:10000452-1387018800-1387029600@www.kki-sd.org
SUMMARY:Doa Rosario
DESCRIPTION:
URL:https://www.kki-sd.org/event/doa-rosario-34/
LOCATION:Rumah Feli
END:VEVENT
BEGIN:VEVENT
DTSTART;TZID=America/Los_Angeles:20131221T130000
DTEND;TZID=America/Los_Angeles:20131221T160000
DTSTAMP:20260419T180552
CREATED:20170311T222648Z
LAST-MODIFIED:20170311T222648Z
UID:10000453-1387630800-1387641600@www.kki-sd.org
SUMMARY:Misa Kudus
DESCRIPTION:Misa akan dipimpin oleh Romo Raymundus Bhea Wea\, S.V.D.
URL:https://www.kki-sd.org/event/misa-kudus-32/
LOCATION:Guardian Angels Church\, 9310 Dalehurst Road\, Santee\, CA\, 92071
GEO:32.8596724;-117.0025746
X-APPLE-STRUCTURED-LOCATION;VALUE=URI;X-ADDRESS=Guardian Angels Church 9310 Dalehurst Road Santee CA 92071;X-APPLE-RADIUS=500;X-TITLE=9310 Dalehurst Road:geo:-117.0025746,32.8596724
END:VEVENT
BEGIN:VEVENT
DTSTART;TZID=America/Los_Angeles:20140104T120000
DTEND;TZID=America/Los_Angeles:20140104T160000
DTSTAMP:20260419T180552
CREATED:20170311T222648Z
LAST-MODIFIED:20170311T222648Z
UID:10000454-1388836800-1388851200@www.kki-sd.org
SUMMARY:Perayaan Natal dan Tahun Baru
DESCRIPTION:Perayaan Natal dan Tahun Baru bersama rekan rekan di KKISD.
URL:https://www.kki-sd.org/event/perayaan-natal-dan-tahun-baru-2/
LOCATION:Guardian Angels Church – Cunnane Parish Center\, 9310 Dalehurst Rd\, Santee\, CA\, 92071
GEO:32.8596724;-117.0025746
X-APPLE-STRUCTURED-LOCATION;VALUE=URI;X-ADDRESS=Guardian Angels Church – Cunnane Parish Center 9310 Dalehurst Rd Santee CA 92071;X-APPLE-RADIUS=500;X-TITLE=9310 Dalehurst Rd:geo:-117.0025746,32.8596724
END:VEVENT
BEGIN:VEVENT
DTSTART;TZID=America/Los_Angeles:20140111T170000
DTEND;TZID=America/Los_Angeles:20140111T200000
DTSTAMP:20260419T180552
CREATED:20170311T222648Z
LAST-MODIFIED:20170311T222648Z
UID:10000455-1389459600-1389470400@www.kki-sd.org
SUMMARY:Doa Rosario
DESCRIPTION:Doa Rosario dan puji syukur atas permandian putri dari Michael dan Yenny\, silahkan mendaftarkan potluck anda di Cicil.
URL:https://www.kki-sd.org/event/doa-rosario-35/
LOCATION:Rumah Yenny & Michael
END:VEVENT
BEGIN:VEVENT
DTSTART;TZID=America/Los_Angeles:20140118T130000
DTEND;TZID=America/Los_Angeles:20140118T160000
DTSTAMP:20260419T180552
CREATED:20170311T222648Z
LAST-MODIFIED:20170311T222648Z
UID:10000456-1390050000-1390060800@www.kki-sd.org
SUMMARY:Misa Kudus\, pelantikan ketua dan officers KKISD 2014
DESCRIPTION:Misa Kudus Perdana ditahun 2014 KKISD\, Pelantikan Ketua & Officers Periode 2014
URL:https://www.kki-sd.org/event/misa-kudus-pelantikan-ketua-dan-officers-kkisd-2014-2/
LOCATION:Guardian Angels Church\, 9310 Dalehurst Road\, Santee\, CA\, 92071
GEO:32.8596724;-117.0025746
X-APPLE-STRUCTURED-LOCATION;VALUE=URI;X-ADDRESS=Guardian Angels Church 9310 Dalehurst Road Santee CA 92071;X-APPLE-RADIUS=500;X-TITLE=9310 Dalehurst Road:geo:-117.0025746,32.8596724
END:VEVENT
BEGIN:VEVENT
DTSTART;TZID=America/Los_Angeles:20140201T120000
DTEND;TZID=America/Los_Angeles:20140201T150000
DTSTAMP:20260419T180552
CREATED:20170311T222651Z
LAST-MODIFIED:20170311T222651Z
UID:10000457-1391256000-1391266800@www.kki-sd.org
SUMMARY:Sharing Lagu Pujian
DESCRIPTION:Tema: ‘Memuji & Menyembah Tuhan dalam Nyanyian’… Mengapa dan Bagaimana ? Dibawakan oleh Chris Widjaja (Hengky).
URL:https://www.kki-sd.org/event/sharing-lagu-pujian-2/
LOCATION:Guardian Angels Church\, 9310 Dalehurst Road\, Santee\, CA\, 92071
GEO:32.8596724;-117.0025746
X-APPLE-STRUCTURED-LOCATION;VALUE=URI;X-ADDRESS=Guardian Angels Church 9310 Dalehurst Road Santee CA 92071;X-APPLE-RADIUS=500;X-TITLE=9310 Dalehurst Road:geo:-117.0025746,32.8596724
END:VEVENT
BEGIN:VEVENT
DTSTART;TZID=America/Los_Angeles:20140208T170000
DTEND;TZID=America/Los_Angeles:20140208T200000
DTSTAMP:20260419T180552
CREATED:20170311T222651Z
LAST-MODIFIED:20170311T222651Z
UID:10000458-1391878800-1391889600@www.kki-sd.org
SUMMARY:Doa Rosario
DESCRIPTION:Doa Rosario
URL:https://www.kki-sd.org/event/doa-rosario-36/
LOCATION:Rumah Soeni & Anthony
END:VEVENT
BEGIN:VEVENT
DTSTART;TZID=America/Los_Angeles:20140215T130000
DTEND;TZID=America/Los_Angeles:20140215T160000
DTSTAMP:20260419T180552
CREATED:20170311T222652Z
LAST-MODIFIED:20170311T222652Z
UID:10000459-1392469200-1392480000@www.kki-sd.org
SUMMARY:Misa Kudus dan Perayaan Valentine's Day
DESCRIPTION:Misa Kudus dengan Celebrant: Romo Budi Wardhana Pr. Diikuti dengan perayaan Valentine’s Day di Social Hall.
URL:https://www.kki-sd.org/event/misa-kudus-dan-perayaan-valentines-day-2/
LOCATION:Guardian Angels Church\, 9310 Dalehurst Road\, Santee\, CA\, 92071
GEO:32.8596724;-117.0025746
X-APPLE-STRUCTURED-LOCATION;VALUE=URI;X-ADDRESS=Guardian Angels Church 9310 Dalehurst Road Santee CA 92071;X-APPLE-RADIUS=500;X-TITLE=9310 Dalehurst Road:geo:-117.0025746,32.8596724
END:VEVENT
BEGIN:VEVENT
DTSTART;TZID=America/Los_Angeles:20140221T190000
DTEND;TZID=America/Los_Angeles:20140221T210000
DTSTAMP:20260419T180552
CREATED:20170311T222652Z
LAST-MODIFIED:20170311T222652Z
UID:10000460-1393009200-1393016400@www.kki-sd.org
SUMMARY:Bible Sharing
DESCRIPTION:Bible Sharing Topik: Injil Markus Bab 6.Akan dipimpin oleh Romo Ray.\nJangan lupa membawa Kitab Suci masing2.
URL:https://www.kki-sd.org/event/bible-sharing-7/
LOCATION:Rumah Ling & Rose
END:VEVENT
BEGIN:VEVENT
DTSTART;TZID=America/Los_Angeles:20140222T121500
DTEND;TZID=America/Los_Angeles:20140222T141500
DTSTAMP:20260419T180552
CREATED:20170311T222652Z
LAST-MODIFIED:20170311T222652Z
UID:10000461-1393071300-1393078500@www.kki-sd.org
SUMMARY:Leadership Workshop
DESCRIPTION:Leadership Workshop untuk para KKI Officers\, dibawakan oleh Bambang Dharmawan.
URL:https://www.kki-sd.org/event/leadership-workshop-2/
LOCATION:Guardian Angels Church\, 9310 Dalehurst Road\, Santee\, CA\, 92071
GEO:32.8596724;-117.0025746
X-APPLE-STRUCTURED-LOCATION;VALUE=URI;X-ADDRESS=Guardian Angels Church 9310 Dalehurst Road Santee CA 92071;X-APPLE-RADIUS=500;X-TITLE=9310 Dalehurst Road:geo:-117.0025746,32.8596724
END:VEVENT
BEGIN:VEVENT
DTSTART;TZID=America/Los_Angeles:20140301T130000
DTEND;TZID=America/Los_Angeles:20140301T160000
DTSTAMP:20260419T180552
CREATED:20170311T222655Z
LAST-MODIFIED:20170311T222655Z
UID:10000462-1393678800-1393689600@www.kki-sd.org
SUMMARY:Seminar Ecumenism
DESCRIPTION:Dibawakan oleh: Msgr. Dennis L. Mikulanis\, STD.
URL:https://www.kki-sd.org/event/seminar-ecumenism-2/
LOCATION:Guardian Angels Church – Cunnane Parish Center\, 9310 Dalehurst Rd\, Santee\, CA\, 92071
GEO:32.8596724;-117.0025746
X-APPLE-STRUCTURED-LOCATION;VALUE=URI;X-ADDRESS=Guardian Angels Church – Cunnane Parish Center 9310 Dalehurst Rd Santee CA 92071;X-APPLE-RADIUS=500;X-TITLE=9310 Dalehurst Rd:geo:-117.0025746,32.8596724
END:VEVENT
BEGIN:VEVENT
DTSTART;VALUE=DATE:20140305
DTEND;VALUE=DATE:20140306
DTSTAMP:20260419T180552
CREATED:20170311T222655Z
LAST-MODIFIED:20170311T222655Z
UID:10000463-1393977600-1394063999@www.kki-sd.org
SUMMARY:Ash Wednesday
DESCRIPTION:
URL:https://www.kki-sd.org/event/ash-wednesday-3/
LOCATION:CA
END:VEVENT
BEGIN:VEVENT
DTSTART;TZID=America/Los_Angeles:20140307T191500
DTEND;TZID=America/Los_Angeles:20140307T211500
DTSTAMP:20260419T180552
CREATED:20170311T222655Z
LAST-MODIFIED:20170311T222655Z
UID:10000464-1394219700-1394226900@www.kki-sd.org
SUMMARY:Jalan Salib
DESCRIPTION:Jalan Salib berupa cuplikan movie The Passion of the Christ\, akan dibawakan oleh Hengky. Diadakan di Cunnane Center.
URL:https://www.kki-sd.org/event/jalan-salib-3/
LOCATION:Guardian Angels Church\, 9310 Dalehurst Road\, Santee\, CA\, 92071
GEO:32.8596724;-117.0025746
X-APPLE-STRUCTURED-LOCATION;VALUE=URI;X-ADDRESS=Guardian Angels Church 9310 Dalehurst Road Santee CA 92071;X-APPLE-RADIUS=500;X-TITLE=9310 Dalehurst Road:geo:-117.0025746,32.8596724
END:VEVENT
BEGIN:VEVENT
DTSTART;TZID=America/Los_Angeles:20140315T130000
DTEND;TZID=America/Los_Angeles:20140315T160000
DTSTAMP:20260419T180552
CREATED:20170311T222655Z
LAST-MODIFIED:20170311T222655Z
UID:10000465-1394888400-1394899200@www.kki-sd.org
SUMMARY:Misa Kudus
DESCRIPTION:Presider: Romo Ray
URL:https://www.kki-sd.org/event/misa-kudus-33/
LOCATION:Guardian Angels Church\, 9310 Dalehurst Road\, Santee\, CA\, 92071
GEO:32.8596724;-117.0025746
X-APPLE-STRUCTURED-LOCATION;VALUE=URI;X-ADDRESS=Guardian Angels Church 9310 Dalehurst Road Santee CA 92071;X-APPLE-RADIUS=500;X-TITLE=9310 Dalehurst Road:geo:-117.0025746,32.8596724
END:VEVENT
BEGIN:VEVENT
DTSTART;TZID=America/Los_Angeles:20140316T090000
DTEND;TZID=America/Los_Angeles:20140316T120000
DTSTAMP:20260419T180552
CREATED:20170311T222655Z
LAST-MODIFIED:20170311T222655Z
UID:10000466-1394960400-1394971200@www.kki-sd.org
SUMMARY:KKI-SD Fundraising Breakfast
DESCRIPTION:Fundraising Event: KKI_SD Breakfast at GAC.Pagi ini akan tersedia: bakmi goreng\, bubur ayam Sukabumi\, eggrolls\, lontong isi\, siomai\, donut\, bakpao\, risoles\, dan kopi. Kehadiran anda beserta keluarga dan teman teman sangat kami harapkan. Makan pagi bersama ini akan diadakan di Cunnane Center. Hasil penjualan ditujukan untuk kas KKI-SD.
URL:https://www.kki-sd.org/event/kki-sd-fundraising-breakfast-3/
LOCATION:Guardian Angels Church\, 9310 Dalehurst Road\, Santee\, CA\, 92071
GEO:32.8596724;-117.0025746
X-APPLE-STRUCTURED-LOCATION;VALUE=URI;X-ADDRESS=Guardian Angels Church 9310 Dalehurst Road Santee CA 92071;X-APPLE-RADIUS=500;X-TITLE=9310 Dalehurst Road:geo:-117.0025746,32.8596724
END:VEVENT
BEGIN:VEVENT
DTSTART;TZID=America/Los_Angeles:20140323T090000
DTEND;TZID=America/Los_Angeles:20140323T120000
DTSTAMP:20260419T180552
CREATED:20170311T222658Z
LAST-MODIFIED:20170311T222658Z
UID:10000467-1395565200-1395576000@www.kki-sd.org
SUMMARY:KKI-SD Fundraising Breakfast
DESCRIPTION:Fundraising Event: KKI_SD Breakfast at GAC.Pagi ini akan tersedia: bakmi goreng\, bubur ayam Sukabumi\, eggrolls\, lontong isi\, siomai\, donut\, bakpao\, risoles\, dan kopi. Kehadiran anda beserta keluarga dan teman teman sangat kami harapkan. Makan pagi bersama ini akan diadakan di Cunnane Center. Hasil penjualan ditujukan untuk kas KKI-SD.
URL:https://www.kki-sd.org/event/kki-sd-fundraising-breakfast-4/
LOCATION:Guardian Angels Church\, 9310 Dalehurst Road\, Santee\, CA\, 92071
GEO:32.8596724;-117.0025746
X-APPLE-STRUCTURED-LOCATION;VALUE=URI;X-ADDRESS=Guardian Angels Church 9310 Dalehurst Road Santee CA 92071;X-APPLE-RADIUS=500;X-TITLE=9310 Dalehurst Road:geo:-117.0025746,32.8596724
END:VEVENT
BEGIN:VEVENT
DTSTART;TZID=America/Los_Angeles:20140327T190000
DTEND;TZID=America/Los_Angeles:20140327T210000
DTSTAMP:20260419T180552
CREATED:20170311T222658Z
LAST-MODIFIED:20170311T222658Z
UID:10000468-1395946800-1395954000@www.kki-sd.org
SUMMARY:Doa Rosario
DESCRIPTION:
URL:https://www.kki-sd.org/event/doa-rosario-37/
LOCATION:CA
END:VEVENT
BEGIN:VEVENT
DTSTART;TZID=America/Los_Angeles:20140328T173000
DTEND;TZID=America/Los_Angeles:20140328T193000
DTSTAMP:20260419T180552
CREATED:20170311T222658Z
LAST-MODIFIED:20170311T222658Z
UID:10000469-1396027800-1396035000@www.kki-sd.org
SUMMARY:Soup Kitchen dan Jalan Salib
DESCRIPTION:Soup Kitchen Dinner\, adalah tradisi masa puasa di Guardian Angels Church\, pada hari ini   KKI-SD bertugas menyediakan bermacam macam homemade soups\, kedatangan anda semua sangat kami harapkan.\nPada hari ini juga akan ada Jalan Salib\, bertempat di gereja pada pukul 7 malam.
URL:https://www.kki-sd.org/event/soup-kitchen-dan-jalan-salib-2/
LOCATION:Guardian Angels Church\, 9310 Dalehurst Road\, Santee\, CA\, 92071
GEO:32.8596724;-117.0025746
X-APPLE-STRUCTURED-LOCATION;VALUE=URI;X-ADDRESS=Guardian Angels Church 9310 Dalehurst Road Santee CA 92071;X-APPLE-RADIUS=500;X-TITLE=9310 Dalehurst Road:geo:-117.0025746,32.8596724
END:VEVENT
BEGIN:VEVENT
DTSTART;TZID=America/Los_Angeles:20140405T093000
DTEND;TZID=America/Los_Angeles:20140405T163000
DTSTAMP:20260419T180552
CREATED:20170311T222659Z
LAST-MODIFIED:20170311T222659Z
UID:10000471-1396690200-1396715400@www.kki-sd.org
SUMMARY:Rekoleksi Prapaskah 2014
DESCRIPTION:Tema rekoleksi: “5 Pilar Spiritualitas Kristiani”Dibawakan oleh Romo Antonius Galih Aryanto\, PR
URL:https://www.kki-sd.org/event/rekoleksi-prapaskah-2014-2/
LOCATION:Guardian Angels Church – Social Hall\, 9310 Dalehurst Rd\, Santee\, CA
GEO:32.8596724;-117.0025746
X-APPLE-STRUCTURED-LOCATION;VALUE=URI;X-ADDRESS=Guardian Angels Church – Social Hall 9310 Dalehurst Rd Santee CA;X-APPLE-RADIUS=500;X-TITLE=9310 Dalehurst Rd:geo:-117.0025746,32.8596724
END:VEVENT
BEGIN:VEVENT
DTSTART;VALUE=DATE:20140417
DTEND;VALUE=DATE:20140419
DTSTAMP:20260419T180552
CREATED:20170311T222659Z
LAST-MODIFIED:20170311T222659Z
UID:10000473-1397692800-1397865599@www.kki-sd.org
SUMMARY:Holy Thursday
DESCRIPTION:
URL:https://www.kki-sd.org/event/holy-thursday-3/
LOCATION:CA
END:VEVENT
BEGIN:VEVENT
DTSTART;VALUE=DATE:20140418
DTEND;VALUE=DATE:20140419
DTSTAMP:20260419T180552
CREATED:20170311T222702Z
LAST-MODIFIED:20170311T222702Z
UID:10000474-1397779200-1397865599@www.kki-sd.org
SUMMARY:Good Friday
DESCRIPTION:
URL:https://www.kki-sd.org/event/good-friday-3/
LOCATION:CA
END:VEVENT
BEGIN:VEVENT
DTSTART;VALUE=DATE:20140419
DTEND;VALUE=DATE:20140420
DTSTAMP:20260419T180552
CREATED:20170311T222633Z
LAST-MODIFIED:20170311T222633Z
UID:10000437-1397865600-1397951999@www.kki-sd.org
SUMMARY:Holy Saturday (Tidak ada misa KKISD)
DESCRIPTION:
URL:https://www.kki-sd.org/event/holy-saturday-tidak-ada-misa-kkisd-2/
LOCATION:CA
END:VEVENT
BEGIN:VEVENT
DTSTART;TZID=America/Los_Angeles:20140420T120000
DTEND;TZID=America/Los_Angeles:20140420T160000
DTSTAMP:20260419T180552
CREATED:20170311T222702Z
LAST-MODIFIED:20170311T222702Z
UID:10000477-1397995200-1398009600@www.kki-sd.org
SUMMARY:Easter Sunday (Picnic)
DESCRIPTION:Misa Kudus pada hari minggu ketiga bulan ini ditiadakan\, sebagai gantinya akan diadakan Easter picnic pada hari minggu keesokan harinya. Harap membawa kursi picnic\, selimut untuk keperluan masing masing. Makan siang akan disediakan\,dan kami menyediakan meja potluck untuk anda semua yang ingin membawa makanan favorit untuk di share dengan teman teman.
URL:https://www.kki-sd.org/event/easter-sunday-picnic-2/
LOCATION:CA
END:VEVENT
BEGIN:VEVENT
DTSTART;TZID=America/Los_Angeles:20140425T190000
DTEND;TZID=America/Los_Angeles:20140425T220000
DTSTAMP:20260419T180552
CREATED:20170311T222702Z
LAST-MODIFIED:20170311T222702Z
UID:10000479-1398452400-1398463200@www.kki-sd.org
SUMMARY:Bible Sharing
DESCRIPTION:Bahan: Injil Markus Bab 7\, Harap membawa kitab suci masing masing.
URL:https://www.kki-sd.org/event/bible-sharing-8/
LOCATION:Rumah Alex & Sinta
END:VEVENT
BEGIN:VEVENT
DTSTART;TZID=America/Los_Angeles:20140503T090000
DTEND;TZID=America/Los_Angeles:20140503T120000
DTSTAMP:20260419T180552
CREATED:20170311T222702Z
LAST-MODIFIED:20170311T222702Z
UID:10000481-1399107600-1399118400@www.kki-sd.org
SUMMARY:Grass Volleyball
DESCRIPTION:
URL:https://www.kki-sd.org/event/grass-volleyball-2/
LOCATION:6th Ave & Spruce St\, Balboa Park
END:VEVENT
BEGIN:VEVENT
DTSTART;TZID=America/Los_Angeles:20140509T190000
DTEND;TZID=America/Los_Angeles:20140509T210000
DTSTAMP:20260419T180552
CREATED:20170311T222702Z
LAST-MODIFIED:20170311T222702Z
UID:10000483-1399662000-1399669200@www.kki-sd.org
SUMMARY:Doa Rosario
DESCRIPTION:Doa Rosario dalam rangka memperingati 40 hari meninggalnya Tante Nieke Karim.
URL:https://www.kki-sd.org/event/doa-rosario-38/
LOCATION:Rumah Ling & Rose
END:VEVENT
BEGIN:VEVENT
DTSTART;TZID=America/Los_Angeles:20140516T190000
DTEND;TZID=America/Los_Angeles:20140516T213000
DTSTAMP:20260419T180552
CREATED:20170311T222707Z
LAST-MODIFIED:20170311T222707Z
UID:10000485-1400266800-1400275800@www.kki-sd.org
SUMMARY:Bible Sharing
DESCRIPTION:Bible Sharing dengan Romo tamu dari Louisiana (Rm. Ben Wego)
URL:https://www.kki-sd.org/event/bible-sharing-9/
LOCATION:Rumah Leo & Cicil
END:VEVENT
BEGIN:VEVENT
DTSTART;TZID=America/Los_Angeles:20140517T130000
DTEND;TZID=America/Los_Angeles:20140517T160000
DTSTAMP:20260419T180552
CREATED:20170311T222707Z
LAST-MODIFIED:20170311T222707Z
UID:10000487-1400331600-1400342400@www.kki-sd.org
SUMMARY:Misa Kudus
DESCRIPTION:Celebrant: Rm. Ben Wego dari LouisianaKKISD Children group akan membawakan acara misa (Altar Serers\, Lector\, Koor\, Persembahan)
URL:https://www.kki-sd.org/event/misa-kudus-34/
LOCATION:Guardian Angels Church\, 9310 Dalehurst Road\, Santee\, CA\, 92071
GEO:32.8596724;-117.0025746
X-APPLE-STRUCTURED-LOCATION;VALUE=URI;X-ADDRESS=Guardian Angels Church 9310 Dalehurst Road Santee CA 92071;X-APPLE-RADIUS=500;X-TITLE=9310 Dalehurst Road:geo:-117.0025746,32.8596724
END:VEVENT
BEGIN:VEVENT
DTSTART;TZID=America/Los_Angeles:20140613T190000
DTEND;TZID=America/Los_Angeles:20140613T213000
DTSTAMP:20260419T180552
CREATED:20170311T222707Z
LAST-MODIFIED:20170311T222707Z
UID:10000489-1402686000-1402695000@www.kki-sd.org
SUMMARY:Doa Rosario
DESCRIPTION:Doa Rosario dan makan malam bersama.
URL:https://www.kki-sd.org/event/doa-rosario-39/
LOCATION:Rumah Leo & Cicil
END:VEVENT
BEGIN:VEVENT
DTSTART;TZID=America/Los_Angeles:20140621T130000
DTEND;TZID=America/Los_Angeles:20140621T160000
DTSTAMP:20260419T180552
CREATED:20170311T222707Z
LAST-MODIFIED:20170311T222707Z
UID:10000490-1403355600-1403366400@www.kki-sd.org
SUMMARY:Misa Kudus
DESCRIPTION:Presider: Romo Ray
URL:https://www.kki-sd.org/event/misa-kudus-35/
LOCATION:Guardian Angels Church\, 9310 Dalehurst Road\, Santee\, CA\, 92071
GEO:32.8596724;-117.0025746
X-APPLE-STRUCTURED-LOCATION;VALUE=URI;X-ADDRESS=Guardian Angels Church 9310 Dalehurst Road Santee CA 92071;X-APPLE-RADIUS=500;X-TITLE=9310 Dalehurst Road:geo:-117.0025746,32.8596724
END:VEVENT
END:VCALENDAR