BEGIN:VCALENDAR
VERSION:2.0
PRODID:-//Keluarga Katolik Indonesia - San Diego - ECPv6.15.20//NONSGML v1.0//EN
CALSCALE:GREGORIAN
METHOD:PUBLISH
X-WR-CALNAME:Keluarga Katolik Indonesia - San Diego
X-ORIGINAL-URL:https://www.kki-sd.org
X-WR-CALDESC:Events for Keluarga Katolik Indonesia - San Diego
REFRESH-INTERVAL;VALUE=DURATION:PT1H
X-Robots-Tag:noindex
X-PUBLISHED-TTL:PT1H
BEGIN:VTIMEZONE
TZID:America/Los_Angeles
BEGIN:DAYLIGHT
TZOFFSETFROM:-0800
TZOFFSETTO:-0700
TZNAME:PDT
DTSTART:20230312T100000
END:DAYLIGHT
BEGIN:STANDARD
TZOFFSETFROM:-0700
TZOFFSETTO:-0800
TZNAME:PST
DTSTART:20231105T090000
END:STANDARD
BEGIN:DAYLIGHT
TZOFFSETFROM:-0800
TZOFFSETTO:-0700
TZNAME:PDT
DTSTART:20240310T100000
END:DAYLIGHT
BEGIN:STANDARD
TZOFFSETFROM:-0700
TZOFFSETTO:-0800
TZNAME:PST
DTSTART:20241103T090000
END:STANDARD
BEGIN:DAYLIGHT
TZOFFSETFROM:-0800
TZOFFSETTO:-0700
TZNAME:PDT
DTSTART:20250309T100000
END:DAYLIGHT
BEGIN:STANDARD
TZOFFSETFROM:-0700
TZOFFSETTO:-0800
TZNAME:PST
DTSTART:20251102T090000
END:STANDARD
BEGIN:DAYLIGHT
TZOFFSETFROM:-0800
TZOFFSETTO:-0700
TZNAME:PDT
DTSTART:20260308T100000
END:DAYLIGHT
BEGIN:STANDARD
TZOFFSETFROM:-0700
TZOFFSETTO:-0800
TZNAME:PST
DTSTART:20261101T090000
END:STANDARD
END:VTIMEZONE
BEGIN:VEVENT
DTSTART;TZID=America/Los_Angeles:20241221T130000
DTEND;TZID=America/Los_Angeles:20241221T140000
DTSTAMP:20260421T155840
CREATED:20240629T173545Z
LAST-MODIFIED:20250227T042257Z
UID:10000937-1734786000-1734789600@www.kki-sd.org
SUMMARY:Misa Kudus
DESCRIPTION:
URL:https://www.kki-sd.org/event/misa-bulanan/2024-12-21/
LOCATION:San Rafael Church\, 17252 Bernardo Center Drive\, San Diego\, CA\, 92128\, United States
END:VEVENT
BEGIN:VEVENT
DTSTART;TZID=America/Los_Angeles:20250118T130000
DTEND;TZID=America/Los_Angeles:20250118T140000
DTSTAMP:20260421T155840
CREATED:20240629T173545Z
LAST-MODIFIED:20250227T042257Z
UID:10000938-1737205200-1737208800@www.kki-sd.org
SUMMARY:Misa Kudus
DESCRIPTION:
URL:https://www.kki-sd.org/event/misa-bulanan/2025-01-18/
LOCATION:San Rafael Church\, 17252 Bernardo Center Drive\, San Diego\, CA\, 92128\, United States
END:VEVENT
BEGIN:VEVENT
DTSTART;TZID=America/Los_Angeles:20250215T130000
DTEND;TZID=America/Los_Angeles:20250215T140000
DTSTAMP:20260421T155840
CREATED:20240629T173545Z
LAST-MODIFIED:20250227T042257Z
UID:10000939-1739624400-1739628000@www.kki-sd.org
SUMMARY:Misa Kudus
DESCRIPTION:
URL:https://www.kki-sd.org/event/misa-bulanan/2025-02-15/
LOCATION:San Rafael Church\, 17252 Bernardo Center Drive\, San Diego\, CA\, 92128\, United States
END:VEVENT
BEGIN:VEVENT
DTSTART;TZID=America/Los_Angeles:20250315T130000
DTEND;TZID=America/Los_Angeles:20250315T140000
DTSTAMP:20260421T155840
CREATED:20240629T173545Z
LAST-MODIFIED:20250227T042257Z
UID:10000940-1742043600-1742047200@www.kki-sd.org
SUMMARY:Misa Kudus
DESCRIPTION:
URL:https://www.kki-sd.org/event/misa-bulanan/2025-03-15/
LOCATION:San Rafael Church\, 17252 Bernardo Center Drive\, San Diego\, CA\, 92128\, United States
END:VEVENT
BEGIN:VEVENT
DTSTART;TZID=America/Los_Angeles:20250517T130000
DTEND;TZID=America/Los_Angeles:20250517T140000
DTSTAMP:20260421T155840
CREATED:20240629T173545Z
LAST-MODIFIED:20250227T042257Z
UID:10000942-1747486800-1747490400@www.kki-sd.org
SUMMARY:Misa Kudus
DESCRIPTION:
URL:https://www.kki-sd.org/event/misa-bulanan/2025-05-17/
LOCATION:San Rafael Church\, 17252 Bernardo Center Drive\, San Diego\, CA\, 92128\, United States
END:VEVENT
BEGIN:VEVENT
DTSTART;TZID=America/Los_Angeles:20250621T130000
DTEND;TZID=America/Los_Angeles:20250621T140000
DTSTAMP:20260421T155840
CREATED:20240629T173545Z
LAST-MODIFIED:20250227T042257Z
UID:10000943-1750510800-1750514400@www.kki-sd.org
SUMMARY:Misa Kudus
DESCRIPTION:
URL:https://www.kki-sd.org/event/misa-bulanan/2025-06-21/
LOCATION:San Rafael Church\, 17252 Bernardo Center Drive\, San Diego\, CA\, 92128\, United States
END:VEVENT
BEGIN:VEVENT
DTSTART;TZID=America/Los_Angeles:20250719T130000
DTEND;TZID=America/Los_Angeles:20250719T140000
DTSTAMP:20260421T155840
CREATED:20240629T173545Z
LAST-MODIFIED:20250227T042257Z
UID:10000944-1752930000-1752933600@www.kki-sd.org
SUMMARY:Misa Kudus
DESCRIPTION:
URL:https://www.kki-sd.org/event/misa-bulanan/2025-07-19/
LOCATION:San Rafael Church\, 17252 Bernardo Center Drive\, San Diego\, CA\, 92128\, United States
END:VEVENT
END:VCALENDAR