BEGIN:VCALENDAR
VERSION:2.0
PRODID:-//Keluarga Katolik Indonesia - San Diego - ECPv6.15.20//NONSGML v1.0//EN
CALSCALE:GREGORIAN
METHOD:PUBLISH
X-WR-CALNAME:Keluarga Katolik Indonesia - San Diego
X-ORIGINAL-URL:https://www.kki-sd.org
X-WR-CALDESC:Events for Keluarga Katolik Indonesia - San Diego
REFRESH-INTERVAL;VALUE=DURATION:PT1H
X-Robots-Tag:noindex
X-PUBLISHED-TTL:PT1H
BEGIN:VTIMEZONE
TZID:America/Los_Angeles
BEGIN:DAYLIGHT
TZOFFSETFROM:-0800
TZOFFSETTO:-0700
TZNAME:PDT
DTSTART:20140309T100000
END:DAYLIGHT
BEGIN:STANDARD
TZOFFSETFROM:-0700
TZOFFSETTO:-0800
TZNAME:PST
DTSTART:20141102T090000
END:STANDARD
BEGIN:DAYLIGHT
TZOFFSETFROM:-0800
TZOFFSETTO:-0700
TZNAME:PDT
DTSTART:20150308T100000
END:DAYLIGHT
BEGIN:STANDARD
TZOFFSETFROM:-0700
TZOFFSETTO:-0800
TZNAME:PST
DTSTART:20151101T090000
END:STANDARD
BEGIN:DAYLIGHT
TZOFFSETFROM:-0800
TZOFFSETTO:-0700
TZNAME:PDT
DTSTART:20160313T100000
END:DAYLIGHT
BEGIN:STANDARD
TZOFFSETFROM:-0700
TZOFFSETTO:-0800
TZNAME:PST
DTSTART:20161106T090000
END:STANDARD
BEGIN:DAYLIGHT
TZOFFSETFROM:-0800
TZOFFSETTO:-0700
TZNAME:PDT
DTSTART:20170312T100000
END:DAYLIGHT
BEGIN:STANDARD
TZOFFSETFROM:-0700
TZOFFSETTO:-0800
TZNAME:PST
DTSTART:20171105T090000
END:STANDARD
END:VTIMEZONE
BEGIN:VEVENT
DTSTART;TZID=America/Los_Angeles:20151017T120000
DTEND;TZID=America/Los_Angeles:20151017T160000
DTSTAMP:20260420T001710
CREATED:20170311T222754Z
LAST-MODIFIED:20170311T222754Z
UID:10000551-1445083200-1445097600@www.kki-sd.org
SUMMARY:KKISD 25th Anniversary Mass & Celebration
DESCRIPTION:
URL:https://www.kki-sd.org/event/kkisd-25th-anniversary-mass-celebration-2/
LOCATION:Guardian Angels Church\, 9310 Dalehurst Road\, Santee\, CA\, 92071
GEO:32.8596724;-117.0025746
X-APPLE-STRUCTURED-LOCATION;VALUE=URI;X-ADDRESS=Guardian Angels Church 9310 Dalehurst Road Santee CA 92071;X-APPLE-RADIUS=500;X-TITLE=9310 Dalehurst Road:geo:-117.0025746,32.8596724
END:VEVENT
BEGIN:VEVENT
DTSTART;TZID=America/Los_Angeles:20151030T190000
DTEND;TZID=America/Los_Angeles:20151030T210000
DTSTAMP:20260420T001710
CREATED:20170311T222758Z
LAST-MODIFIED:20170311T222758Z
UID:10000552-1446231600-1446238800@www.kki-sd.org
SUMMARY:Doa Rosario
DESCRIPTION:
URL:https://www.kki-sd.org/event/doa-rosario-52/
LOCATION:Rumah Riko & Patricia
END:VEVENT
BEGIN:VEVENT
DTSTART;TZID=America/Los_Angeles:20151112T190000
DTEND;TZID=America/Los_Angeles:20151112T210000
DTSTAMP:20260420T001710
CREATED:20170311T222758Z
LAST-MODIFIED:20170311T222758Z
UID:10000553-1447354800-1447362000@www.kki-sd.org
SUMMARY:Doa Rosario
DESCRIPTION:
URL:https://www.kki-sd.org/event/doa-rosario-53/
LOCATION:Rumah Beatrix
END:VEVENT
BEGIN:VEVENT
DTSTART;TZID=America/Los_Angeles:20151121T130000
DTEND;TZID=America/Los_Angeles:20151121T153000
DTSTAMP:20260420T001710
CREATED:20170311T222758Z
LAST-MODIFIED:20170311T222758Z
UID:10000554-1448110800-1448119800@www.kki-sd.org
SUMMARY:Misa Kudus
DESCRIPTION:
URL:https://www.kki-sd.org/event/misa-kudus-51/
LOCATION:Guardian Angels Church\, 9310 Dalehurst Road\, Santee\, CA\, 92071
GEO:32.8596724;-117.0025746
X-APPLE-STRUCTURED-LOCATION;VALUE=URI;X-ADDRESS=Guardian Angels Church 9310 Dalehurst Road Santee CA 92071;X-APPLE-RADIUS=500;X-TITLE=9310 Dalehurst Road:geo:-117.0025746,32.8596724
END:VEVENT
BEGIN:VEVENT
DTSTART;TZID=America/Los_Angeles:20151205T100000
DTEND;TZID=America/Los_Angeles:20151205T160000
DTSTAMP:20260420T001710
CREATED:20170311T222758Z
LAST-MODIFIED:20170311T222758Z
UID:10000555-1449309600-1449331200@www.kki-sd.org
SUMMARY:Rekoleksi Advent
DESCRIPTION:Dengan Romo Effendi dari Berkeley\, CA.
URL:https://www.kki-sd.org/event/rekoleksi-advent-2/
LOCATION:Guardian Angels Church\, 9310 Dalehurst Road\, Santee\, CA\, 92071
GEO:32.8596724;-117.0025746
X-APPLE-STRUCTURED-LOCATION;VALUE=URI;X-ADDRESS=Guardian Angels Church 9310 Dalehurst Road Santee CA 92071;X-APPLE-RADIUS=500;X-TITLE=9310 Dalehurst Road:geo:-117.0025746,32.8596724
END:VEVENT
BEGIN:VEVENT
DTSTART;TZID=America/Los_Angeles:20151219T130000
DTEND;TZID=America/Los_Angeles:20151219T153000
DTSTAMP:20260420T001710
CREATED:20170311T222758Z
LAST-MODIFIED:20170311T222758Z
UID:10000556-1450530000-1450539000@www.kki-sd.org
SUMMARY:Misa Kudus
DESCRIPTION:
URL:https://www.kki-sd.org/event/misa-kudus-52/
LOCATION:Guardian Angels Church\, 9310 Dalehurst Road\, Santee\, CA\, 92071
GEO:32.8596724;-117.0025746
X-APPLE-STRUCTURED-LOCATION;VALUE=URI;X-ADDRESS=Guardian Angels Church 9310 Dalehurst Road Santee CA 92071;X-APPLE-RADIUS=500;X-TITLE=9310 Dalehurst Road:geo:-117.0025746,32.8596724
END:VEVENT
BEGIN:VEVENT
DTSTART;TZID=America/Los_Angeles:20160116T130000
DTEND;TZID=America/Los_Angeles:20160116T150000
DTSTAMP:20260420T001710
CREATED:20170311T222802Z
LAST-MODIFIED:20170311T222802Z
UID:10000557-1452949200-1452956400@www.kki-sd.org
SUMMARY:Misa Kudus
DESCRIPTION:Pemberkatan Pengurus KKISD 2016 oleh Fr. Kevin
URL:https://www.kki-sd.org/event/misa-kudus-53/
LOCATION:Guardian Angels Church\, 9310 Dalehurst Road\, Santee\, CA\, 92071
GEO:32.8596724;-117.0025746
X-APPLE-STRUCTURED-LOCATION;VALUE=URI;X-ADDRESS=Guardian Angels Church 9310 Dalehurst Road Santee CA 92071;X-APPLE-RADIUS=500;X-TITLE=9310 Dalehurst Road:geo:-117.0025746,32.8596724
END:VEVENT
BEGIN:VEVENT
DTSTART;TZID=America/Los_Angeles:20160121T190000
DTEND;TZID=America/Los_Angeles:20160121T210000
DTSTAMP:20260420T001710
CREATED:20170311T222802Z
LAST-MODIFIED:20170311T222802Z
UID:10000558-1453402800-1453410000@www.kki-sd.org
SUMMARY:Doa Rosario
DESCRIPTION:
URL:https://www.kki-sd.org/event/doa-rosario-54/
LOCATION:Rumah Ling & Rose
END:VEVENT
BEGIN:VEVENT
DTSTART;TZID=America/Los_Angeles:20160123T130000
DTEND;TZID=America/Los_Angeles:20160123T150000
DTSTAMP:20260420T001710
CREATED:20170311T222802Z
LAST-MODIFIED:20170311T222802Z
UID:10000559-1453554000-1453561200@www.kki-sd.org
SUMMARY:Officers Meeting
DESCRIPTION:
URL:https://www.kki-sd.org/event/officers-meeting-4/
LOCATION:Guardian Angels Church – Social Hall\, 9310 Dalehurst Rd\, Santee\, CA
GEO:32.8596724;-117.0025746
X-APPLE-STRUCTURED-LOCATION;VALUE=URI;X-ADDRESS=Guardian Angels Church – Social Hall 9310 Dalehurst Rd Santee CA;X-APPLE-RADIUS=500;X-TITLE=9310 Dalehurst Rd:geo:-117.0025746,32.8596724
END:VEVENT
BEGIN:VEVENT
DTSTART;TZID=America/Los_Angeles:20160202T190000
DTEND;TZID=America/Los_Angeles:20160202T210000
DTSTAMP:20260420T001710
CREATED:20170311T222802Z
LAST-MODIFIED:20170311T222802Z
UID:10000560-1454439600-1454446800@www.kki-sd.org
SUMMARY:Doa Rosario
DESCRIPTION:40-hari wafatnya Gobert
URL:https://www.kki-sd.org/event/doa-rosario-55/
LOCATION:Rumah Alex & Sinta
END:VEVENT
BEGIN:VEVENT
DTSTART;TZID=America/Los_Angeles:20160207T083000
DTEND;TZID=America/Los_Angeles:20160207T130000
DTSTAMP:20260420T001710
CREATED:20170311T222802Z
LAST-MODIFIED:20170311T222802Z
UID:10000561-1454833800-1454850000@www.kki-sd.org
SUMMARY:Sunday Donut at GAC
DESCRIPTION:
URL:https://www.kki-sd.org/event/sunday-donut-at-gac-3/
LOCATION:Guardian Angels Church\, 9310 Dalehurst Road\, Santee\, CA\, 92071
GEO:32.8596724;-117.0025746
X-APPLE-STRUCTURED-LOCATION;VALUE=URI;X-ADDRESS=Guardian Angels Church 9310 Dalehurst Road Santee CA 92071;X-APPLE-RADIUS=500;X-TITLE=9310 Dalehurst Road:geo:-117.0025746,32.8596724
END:VEVENT
BEGIN:VEVENT
DTSTART;VALUE=DATE:20160210
DTEND;VALUE=DATE:20160211
DTSTAMP:20260420T001710
CREATED:20170311T222805Z
LAST-MODIFIED:20170311T222805Z
UID:10000562-1455062400-1455148799@www.kki-sd.org
SUMMARY:Ash Wednesday
DESCRIPTION:
URL:https://www.kki-sd.org/event/ash-wednesday-5/
LOCATION:CA
END:VEVENT
BEGIN:VEVENT
DTSTART;TZID=America/Los_Angeles:20160220T130000
DTEND;TZID=America/Los_Angeles:20160220T150000
DTSTAMP:20260420T001710
CREATED:20170311T222805Z
LAST-MODIFIED:20170311T222805Z
UID:10000563-1455973200-1455980400@www.kki-sd.org
SUMMARY:Misa Kudus
DESCRIPTION:Presider: Romo Ray
URL:https://www.kki-sd.org/event/misa-kudus-54/
LOCATION:Guardian Angels Church\, 9310 Dalehurst Road\, Santee\, CA\, 92071
GEO:32.8596724;-117.0025746
X-APPLE-STRUCTURED-LOCATION;VALUE=URI;X-ADDRESS=Guardian Angels Church 9310 Dalehurst Road Santee CA 92071;X-APPLE-RADIUS=500;X-TITLE=9310 Dalehurst Road:geo:-117.0025746,32.8596724
END:VEVENT
BEGIN:VEVENT
DTSTART;TZID=America/Los_Angeles:20160222T190000
DTEND;TZID=America/Los_Angeles:20160222T210000
DTSTAMP:20260420T001710
CREATED:20170311T222805Z
LAST-MODIFIED:20170311T222805Z
UID:10000564-1456167600-1456174800@www.kki-sd.org
SUMMARY:Doa Rosario
DESCRIPTION:TBD (Mira Mesa) 100 hari wafatnya Tante Abby Xie
URL:https://www.kki-sd.org/event/doa-rosario-56/
LOCATION:CA
END:VEVENT
BEGIN:VEVENT
DTSTART;TZID=America/Los_Angeles:20160226T170000
DTEND;TZID=America/Los_Angeles:20160226T200000
DTSTAMP:20260420T001710
CREATED:20170311T222805Z
LAST-MODIFIED:20170311T222805Z
UID:10000565-1456506000-1456516800@www.kki-sd.org
SUMMARY:Soup in the Kitchen
DESCRIPTION:
URL:https://www.kki-sd.org/event/soup-in-the-kitchen-3/
LOCATION:Guardian Angels Church\, 9310 Dalehurst Road\, Santee\, CA\, 92071
GEO:32.8596724;-117.0025746
X-APPLE-STRUCTURED-LOCATION;VALUE=URI;X-ADDRESS=Guardian Angels Church 9310 Dalehurst Road Santee CA 92071;X-APPLE-RADIUS=500;X-TITLE=9310 Dalehurst Road:geo:-117.0025746,32.8596724
END:VEVENT
BEGIN:VEVENT
DTSTART;TZID=America/Los_Angeles:20160227T110000
DTEND;TZID=America/Los_Angeles:20160227T160000
DTSTAMP:20260420T001710
CREATED:20170311T222805Z
LAST-MODIFIED:20170311T222805Z
UID:10000566-1456570800-1456588800@www.kki-sd.org
SUMMARY:Leadership Workshop Pengurus KKISD 2016
DESCRIPTION:TBD
URL:https://www.kki-sd.org/event/leadership-workshop-pengurus-kkisd-2016-3/
LOCATION:CA
END:VEVENT
BEGIN:VEVENT
DTSTART;TZID=America/Los_Angeles:20160305T100000
DTEND;TZID=America/Los_Angeles:20160305T160000
DTSTAMP:20260420T001710
CREATED:20170311T222809Z
LAST-MODIFIED:20170311T222809Z
UID:10000567-1457172000-1457193600@www.kki-sd.org
SUMMARY:Rekoleksi Prapaskah - Romo Adri
DESCRIPTION:
URL:https://www.kki-sd.org/event/rekoleksi-prapaskah-romo-adri/
LOCATION:Guardian Angels Church\, 9310 Dalehurst Road\, Santee\, CA\, 92071
GEO:32.8596724;-117.0025746
X-APPLE-STRUCTURED-LOCATION;VALUE=URI;X-ADDRESS=Guardian Angels Church 9310 Dalehurst Road Santee CA 92071;X-APPLE-RADIUS=500;X-TITLE=9310 Dalehurst Road:geo:-117.0025746,32.8596724
END:VEVENT
BEGIN:VEVENT
DTSTART;TZID=America/Los_Angeles:20160312T100000
DTEND;TZID=America/Los_Angeles:20160312T120000
DTSTAMP:20260420T001710
CREATED:20170311T222809Z
LAST-MODIFIED:20170311T222809Z
UID:10000568-1457776800-1457784000@www.kki-sd.org
SUMMARY:Jalan Salib
DESCRIPTION:Encinitas/Oceanside (TBD)
URL:https://www.kki-sd.org/event/jalan-salib-4/
LOCATION:CA
END:VEVENT
BEGIN:VEVENT
DTSTART;TZID=America/Los_Angeles:20160319T130000
DTEND;TZID=America/Los_Angeles:20160319T150000
DTSTAMP:20260420T001711
CREATED:20170311T222809Z
LAST-MODIFIED:20170311T222809Z
UID:10000569-1458392400-1458399600@www.kki-sd.org
SUMMARY:Misa Kudus - Rm Ray
DESCRIPTION:
URL:https://www.kki-sd.org/event/misa-kudus-rm-ray-7/
LOCATION:Guardian Angels Church\, 9310 Dalehurst Road\, Santee\, CA\, 92071
GEO:32.8596724;-117.0025746
X-APPLE-STRUCTURED-LOCATION;VALUE=URI;X-ADDRESS=Guardian Angels Church 9310 Dalehurst Road Santee CA 92071;X-APPLE-RADIUS=500;X-TITLE=9310 Dalehurst Road:geo:-117.0025746,32.8596724
END:VEVENT
BEGIN:VEVENT
DTSTART;VALUE=DATE:20160324
DTEND;VALUE=DATE:20160325
DTSTAMP:20260420T001711
CREATED:20170311T222809Z
LAST-MODIFIED:20170311T222809Z
UID:10000570-1458777600-1458863999@www.kki-sd.org
SUMMARY:Holy Thursday
DESCRIPTION:
URL:https://www.kki-sd.org/event/holy-thursday-4/
LOCATION:CA
END:VEVENT
BEGIN:VEVENT
DTSTART;VALUE=DATE:20160325
DTEND;VALUE=DATE:20160326
DTSTAMP:20260420T001711
CREATED:20170311T222809Z
LAST-MODIFIED:20170311T222809Z
UID:10000571-1458864000-1458950399@www.kki-sd.org
SUMMARY:Good Friday
DESCRIPTION:
URL:https://www.kki-sd.org/event/good-friday-4/
LOCATION:CA
END:VEVENT
BEGIN:VEVENT
DTSTART;VALUE=DATE:20160326
DTEND;VALUE=DATE:20160327
DTSTAMP:20260420T001711
CREATED:20170311T222812Z
LAST-MODIFIED:20170311T222812Z
UID:10000572-1458950400-1459036799@www.kki-sd.org
SUMMARY:Holy Saturday
DESCRIPTION:
URL:https://www.kki-sd.org/event/holy-saturday-2/
LOCATION:CA
END:VEVENT
BEGIN:VEVENT
DTSTART;VALUE=DATE:20160327
DTEND;VALUE=DATE:20160328
DTSTAMP:20260420T001711
CREATED:20170311T222812Z
LAST-MODIFIED:20170311T222812Z
UID:10000574-1459036800-1459123199@www.kki-sd.org
SUMMARY:Easter Sunday
DESCRIPTION:
URL:https://www.kki-sd.org/event/easter-sunday-2/
LOCATION:CA
END:VEVENT
BEGIN:VEVENT
DTSTART;TZID=America/Los_Angeles:20160327T113000
DTEND;TZID=America/Los_Angeles:20160327T160000
DTSTAMP:20260420T001711
CREATED:20170311T222812Z
LAST-MODIFIED:20170311T222812Z
UID:10000573-1459078200-1459094400@www.kki-sd.org
SUMMARY:Easter Picnic
DESCRIPTION:TBD
URL:https://www.kki-sd.org/event/easter-picnic-2/
LOCATION:CA
END:VEVENT
BEGIN:VEVENT
DTSTART;TZID=America/Los_Angeles:20160402T170000
DTEND;TZID=America/Los_Angeles:20160402T200000
DTSTAMP:20260420T001711
CREATED:20170311T222812Z
LAST-MODIFIED:20170311T222812Z
UID:10000576-1459616400-1459627200@www.kki-sd.org
SUMMARY:Doa Rosario - 100 hari Gobert
DESCRIPTION:
URL:https://www.kki-sd.org/event/doa-rosario-100-hari-gobert-2/
LOCATION:Rumah Ci Porry
END:VEVENT
BEGIN:VEVENT
DTSTART;TZID=America/Los_Angeles:20160416T110000
DTEND;TZID=America/Los_Angeles:20160416T130000
DTSTAMP:20260420T001711
CREATED:20170311T222812Z
LAST-MODIFIED:20170311T222812Z
UID:10000578-1460804400-1460811600@www.kki-sd.org
SUMMARY:KKISD Officers Meeting
DESCRIPTION:
URL:https://www.kki-sd.org/event/kkisd-officers-meeting-3/
LOCATION:CA
END:VEVENT
BEGIN:VEVENT
DTSTART;TZID=America/Los_Angeles:20160423T130000
DTEND;TZID=America/Los_Angeles:20160423T153000
DTSTAMP:20260420T001711
CREATED:20170311T222817Z
LAST-MODIFIED:20170311T222817Z
UID:10000580-1461416400-1461425400@www.kki-sd.org
SUMMARY:Misa Kudus
DESCRIPTION:Presider: Romo Ray
URL:https://www.kki-sd.org/event/misa-kudus-55/
LOCATION:Guardian Angels Church\, 9310 Dalehurst Road\, Santee\, CA\, 92071
GEO:32.8596724;-117.0025746
X-APPLE-STRUCTURED-LOCATION;VALUE=URI;X-ADDRESS=Guardian Angels Church 9310 Dalehurst Road Santee CA 92071;X-APPLE-RADIUS=500;X-TITLE=9310 Dalehurst Road:geo:-117.0025746,32.8596724
END:VEVENT
BEGIN:VEVENT
DTSTART;TZID=America/Los_Angeles:20160430T073000
DTEND;TZID=America/Los_Angeles:20160430T103000
DTSTAMP:20260420T001711
CREATED:20170311T222817Z
LAST-MODIFIED:20170311T222817Z
UID:10000582-1462001400-1462012200@www.kki-sd.org
SUMMARY:Volleyball
DESCRIPTION:
URL:https://www.kki-sd.org/event/volleyball-5/
LOCATION:Stonebridge Neighborhood Park\, Sycamore Trail Rd\, San Diego\, CA\, 92131
GEO:32.9238417;-117.018358
X-APPLE-STRUCTURED-LOCATION;VALUE=URI;X-ADDRESS=Stonebridge Neighborhood Park Sycamore Trail Rd San Diego CA 92131;X-APPLE-RADIUS=500;X-TITLE=Sycamore Trail Rd:geo:-117.018358,32.9238417
END:VEVENT
BEGIN:VEVENT
DTSTART;VALUE=DATE:20160508
DTEND;VALUE=DATE:20160509
DTSTAMP:20260420T001711
CREATED:20170311T222818Z
LAST-MODIFIED:20170311T222818Z
UID:10000584-1462665600-1462751999@www.kki-sd.org
SUMMARY:Mother's Day
DESCRIPTION:
URL:https://www.kki-sd.org/event/mothers-day-2/
LOCATION:CA
END:VEVENT
BEGIN:VEVENT
DTSTART;TZID=America/Los_Angeles:20160513T190000
DTEND;TZID=America/Los_Angeles:20160513T210000
DTSTAMP:20260420T001711
CREATED:20170311T222818Z
LAST-MODIFIED:20170311T222818Z
UID:10000586-1463166000-1463173200@www.kki-sd.org
SUMMARY:Doa Rosario
DESCRIPTION:
URL:https://www.kki-sd.org/event/doa-rosario-57/
LOCATION:Rumah Ci Nyuk
END:VEVENT
END:VCALENDAR